Workbook
Name 리스트: #REF!
Name 이차: #REF!
Name 전첵: #REF!

Sheet 3. 능률
A1: [작성방법(필독!)] 0. 모든 항목을 반드시 작성해야 하며, 미기재 항목이 있을 경우 심사대상에서 제외, 훈련기관명은 1번 시트 값이 자동입력되므로 직접입력 X 1. NCS 분류코드 : 해당 과정에 가장 주요하거나 많은 비중을 차지하는 내용을 토대로 각 분류상 가장 부합하는 코드를 작성(훈련기관 자체 판단) - NCS대분류명 기재 시 데이터박스 목록으로 설정, 대분류 숫자는 대분류명 선택시 자동입력되므로 직접입력 X 2. 비대면 실시간 운영 여부 : 집체형태 외 비대면 실시간 형태 운영 희망 시 'O' 체크(집체 형태는 기본적으로 모두 가능하며, 비대면 실시간 형태는 승인 과정에 한해 가능) 3. 훈련인원 : 기관에서 예상하는 해당 과정의 연간 훈련 실시인원 추정치 4. 훈련비 단가 : 1인, 1회 기준 훈련비용 5. 총 훈련비 : 총 훈련인원 X 훈련비 단가 6. 훈련일정 : 회차별 개설 예정 시기를 월 단위로 모두 기재('0월' 형태로 기재하거나 "연중 상시" 등 근로자 대상 충분히 안내 가능한 내용으로 작성) 7. 훈련실시장소 : 시/도 단위 및 정확한 주소를 각각 입력, 여러 장소에서 실시할 경우 셀 한개에 모두 입력(셀 구분 시 누락될 수 있음)
A6: 훈련기관명 | B6: 연번 | C6: NCS 대분류명 | D6: NCS 분류코드 | G6: 과정 유형 | H6: 훈련과정명 | I6: 비대면 실시간 운영 여부 | J6: 훈련시간 (H) | K6: 훈련기간 (일수) | L6: 훈련일정 | M6: 훈련인원(명) [예상 수요] | N6: 훈련비 단가(원) | O6: 총 훈련비(원) | P6: 최근 3년 이내('23~'25) 훈련과정 운영 이력 | Q6: 훈련 실시 장소
D7: 대 | E7: 중 | F7: 소 | Q7: 시/도 단위 | R7: 주소지 | S7: 문의처
A8: (사)한국능률협회 | B8: 1 | C8: 경영ㆍ회계ㆍ사무 | D8: =_xlfn.IFS(C8="사업관리","01",C8="경영ㆍ회계ㆍ사무","02",C8="금융ㆍ보험","03",C8="교육ㆍ자연ㆍ사회과학","04",C8="법률ㆍ경찰ㆍ소방ㆍ교도ㆍ국방","05",C8="보건ㆍ의료","06",C8="사회복지ㆍ종교","07",C8="문화ㆍ예술ㆍ디자인ㆍ방송","08",C8="운전ㆍ운송","09",C8="영업판매","10",C8="경비ㆍ청소","11",C8="이용ㆍ숙박ㆍ여행ㆍ오락ㆍ스포츠","12", C8="음식서비스","13", C8="건설","14", C8="기계","15",C8="재료","16",C8="화학ㆍ바이오","17",C8="섬유ㆍ의복","18",C8="전기ㆍ전자","19",C8="정보통신","20",C8="식품가공","21",C8="인쇄ㆍ목재ㆍ가구ㆍ공예","22",C8="환경ㆍ에너지ㆍ안전","23",C8="농림어업","24") -> 02 | E8: 01 | F8: 01 | G8: 일반형 | H8: AX 시대, AI 활용 업무 방식의 이해 | I8: X | J8: 7 | K8: 1 | L8: 2월, 4월, 6월, 8월, 10월, 12월 | M8: 10 | N8: 490000 | O8: =M8*N8 -> 4900000 | P8: O | Q8: 서울특별시 | R8: (07236) 서울특별시 영등포구 여의도동 의사당대로 22 이룸센터 10층(공개교육센터) | S8: 02-3274-9215
A9: (사)한국능률협회 | B9: 2 | C9: 교육ㆍ자연ㆍ사회과학 | D9: 04 | E9: 03 | F9: 01 | G9: 일반형 | H9: 다양성 조직문화와 리더십 | I9: O | J9: 14 | K9: 2 | L9: 1월, 3월, 5월, 7월, 8월, 9월, 11월 | M9: 10 | N9: 690000 | O9: =M9*N9 -> 6900000 | P9: O | Q9: 서울특별시 | R9: (07236) 서울특별시 영등포구 여의도동 의사당대로 22 이룸센터 10층(공개교육센터) | S9: 02-3274-9215
A10: (사)한국능률협회 | B10: 3 | C10: 경영ㆍ회계ㆍ사무 | D10: 02 | E10: 01 | F10: 03 | G10: 일반형 | H10: AI 블로그 콘텐츠와 스마트워크 자동화 완전정복 | I10: X | J10: 6 | K10: 1 | L10: 2월, 5월, 8월, 10월, 12월 | M10: 10 | N10: 490000 | O10: =M10*N10 -> 4900000 | P10: O | Q10: 서울특별시 | R10: (07236) 서울특별시 영등포구 여의도동 의사당대로 22 이룸센터 10층(공개교육센터) | S10: 02-3274-9215
A11: (사)한국능률협회 | B11: 4 | C11: 경영ㆍ회계ㆍ사무 | D11: 02 | E11: 02 | F11: 03 | G11: 일반형 | H11: 맥킨지컨설팅 방식의 비즈니스 보고서 작성 실무 | I11: X | J11: 14 | K11: 2 | L11: 4월, 6월, 9월, 12월 | M11: 10 | N11: 690000 | O11: =M11*N11 -> 6900000 | P11: O | Q11: 서울특별시 | R11: (07236) 서울특별시 영등포구 여의도동 의사당대로 22 이룸센터 10층(공개교육센터) | S11: 02-3274-9215
A12: (사)한국능률협회 | B12: 5 | C12: 경영ㆍ회계ㆍ사무 | D12: 02 | E12: 01 | F12: 01 | G12: 일반형 | H12: 실행력 강화 스킬 UP | I12: X | J12: 7 | K12: 1 | L12: 2월, 3월, 5월, 8월, 9월, 10월, 12월 | M12: 10 | N12: 490000 | O12: =M12*N12 -> 4900000 | P12: O | Q12: 서울특별시 | R12: (07236) 서울특별시 영등포구 여의도동 의사당대로 22 이룸센터 10층(공개교육센터) | S12: 02-3274-9215
A13: (사)한국능률협회 | B13: 6 | C13: 경영ㆍ회계ㆍ사무 | D13: 02 | E13: 02 | F13: 03 | G13: 일반형 | H13: Smart 전문비서 역량개발 | I13: X | J13: 14 | K13: 2 | L13: 1월, 3월, 5월, 8월, 10월, 11월 | M13: 10 | N13: 690000 | O13: =M13*N13 -> 6900000 | P13: O | Q13: 서울특별시 | R13: (07236) 서울특별시 영등포구 여의도동 의사당대로 22 이룸센터 10층(공개교육센터) | S13: 02-3274-9215
A14: (사)한국능률협회 | B14: 7 | C14: 경영ㆍ회계ㆍ사무 | D14: 02 | E14: 02 | F14: 03 | G14: 일반형 | H14: GPT-5 ∙ 구글애널리틱스(GA4)를 활용한 인사이트 도출 | I14: X | J14: 7 | K14: 1 | L14: 6월, 11월 | M14: 10 | N14: 490000 | O14: =M14*N14 -> 4900000 | P14: O | Q14: 서울특별시 | R14: (07236) 서울특별시 영등포구 여의도동 의사당대로 22 이룸센터 10층(공개교육센터) | S14: 02-3274-9215
A15: (사)한국능률협회 | B15: 8 | C15: 사업관리 | D15: 01 | E15: 01 | F15: 01 | G15: 일반형 | H15: 신사업 기회 발굴과 기획 | I15: X | J15: 7 | K15: 1 | L15: 2월, 4월, 6월, 7월, 9월, 11월, 12월 | M15: 10 | N15: 490000 | O15: =M15*N15 -> 4900000 | P15: O | Q15: 서울특별시 | R15: (07236) 서울특별시 영등포구 여의도동 의사당대로 22 이룸센터 10층(공개교육센터) | S15: 02-3274-9215
A16: (사)한국능률협회 | B16: 9 | C16: 경영·회계·사무 | D16: 02 | E16: 02 | F16: 03 | G16: 일반형 | H16: 생성형AI 실무 완벽 활용! 프롬프트부터 파인튜닝까지 | I16: X | J16: 7 | K16: 1 | L16: 1월, 5월, 8월, 11월 | M16: 10 | N16: 490000 | O16: =M16*N16 -> 4900000 | P16: O | Q16: 서울특별시 | R16: (07236) 서울특별시 영등포구 여의도동 의사당대로 22 이룸센터 10층(공개교육센터) | S16: 02-3274-9215
A17: (사)한국능률협회 | B17: 10 | C17: 경영·회계·사무 | D17: 02 | E17: 02 | F17: 03 | G17: 일반형 | H17: 파이썬, ChatGPT로 배우는 엑셀 자동화 입문 (with 바이브코딩) | I17: X | J17: 7 | K17: 1 | L17: 3월, 5월, 8월, 12월 | M17: 10 | N17: 490000 | O17: =M17*N17 -> 4900000 | P17: O | Q17: 서울특별시 | R17: (07236) 서울특별시 영등포구 여의도동 의사당대로 22 이룸센터 10층(공개교육센터) | S17: 02-3274-9215
A18: (사)한국능률협회 | B18: 11 | C18: 경영·회계·사무 | D18: 02 | E18: 02 | F18: 03 | G18: 일반형 | H18: 업무와 일상을 혁신하는 ChatGPT와 생성형AI 활용법 | I18: O | J18: 7 | K18: 1 | L18: 2월, 3월, 6월, 8월, 10월, 11월, 12월 | M18: 10 | N18: 490000 | O18: =M18*N18 -> 4900000 | P18: O | Q18: 서울특별시 | R18: (07236) 서울특별시 영등포구 여의도동 의사당대로 22 이룸센터 10층(공개교육센터) | S18: 02-3274-9215
A19: (사)한국능률협회 | B19: 12 | C19: 경영·회계·사무 | D19: 02 | E19: 01 | F19: 01 | G19: 일반형 | H19: 생성형AI ∙ 노션을 활용한 스마트워크 마스터 | I19: O | J19: 7 | K19: 1 | L19: 3월, 5월, 6월, 7월, 9월, 12월 | M19: 10 | N19: 490000 | O19: =M19*N19 -> 4900000 | P19: O | Q19: 서울특별시 | R19: (07236) 서울특별시 영등포구 여의도동 의사당대로 22 이룸센터 10층(공개교육센터) | S19: 02-3274-9215
A20: (사)한국능률협회 | B20: 13 | C20: 교육·자연·사회과학 | D20: 04 | E20: 03 | F20: 01 | G20: 일반형 | H20: HR 담당자를 위한 직무분석 실무 | I20: X | J20: 14 | K20: 2 | L20: 3월, 5월, 7월, 9월, 11월 | M20: 10 | N20: 690000 | O20: =M20*N20 -> 6900000 | P20: O | Q20: 서울특별시 | R20: (07236) 서울특별시 영등포구 여의도동 의사당대로 22 이룸센터 10층(공개교육센터) | S20: 02-3274-9215
... A28: (사)한국능률협회 | B28: 21 | C28: 경영·회계·사무 | D28: 02 | E28: 02 | F28: 03 | G28: 일반형 | H28: 엑셀 VBA를 활용한 자동화문서 기초 | I28: X | J28: 14 | K28: 2 | L28: 1월, 3월, 5월, 7월, 8월, 9월, 10월, 11월, 12월 | M28: 10 | N28: 690000 | O28: =M28*N28 -> 6900000 | P28: O | Q28: 서울특별시 | R28: (07236) 서울특별시 영등포구 여의도동 의사당대로 22 이룸센터 10층(공개교육센터) | S28: 02-3274-9215

Sheet 4. 품질재단
A1: [작성방법(필독!)] 0. 모든 항목을 반드시 작성해야 하며, 미기재 항목이 있을 경우 심사대상에서 제외, 훈련기관명은 1번 시트 값이 자동입력되므로 직접입력 X 1. NCS 분류코드 : 해당 과정에 가장 주요하거나 많은 비중을 차지하는 내용을 토대로 각 분류상 가장 부합하는 코드를 작성(훈련기관 자체 판단) - NCS대분류명 기재 시 데이터박스 목록으로 설정, 대분류 숫자는 대분류명 선택시 자동입력되므로 직접입력 X 2. 비대면 실시간 운영 여부 : 집체형태 외 비대면 실시간 형태 운영 희망 시 'O' 체크(집체 형태는 기본적으로 모두 가능하며, 비대면 실시간 형태는 승인 과정에 한해 가능) 3. 훈련인원 : 기관에서 예상하는 해당 과정의 연간 훈련 실시인원 추정치 4. 훈련비 단가 : 1인, 1회 기준 훈련비용 5. 총 훈련비 : 총 훈련인원 X 훈련비 단가 6. 훈련일정 : 회차별 개설 예정 시기를 월 단위로 모두 기재('0월' 형태로 기재하거나 "연중 상시" 등 근로자 대상 충분히 안내 가능한 내용으로 작성) 7. 훈련실시장소 : 시/도 단위 및 정확한 주소를 각각 입력, 여러 장소에서 실시할 경우 셀 한개에 모두 입력(셀 구분 시 누락될 수 있음)
A6: 훈련기관명 | B6: 연번 | C6: NCS 대분류명 | D6: NCS 분류코드 | G6: 과정 유형 | H6: 훈련과정명 | I6: 비대면 실시간 운영 여부 | J6: 훈련시간 (H) | K6: 훈련기간 (일수) | L6: 훈련일정 | M6: 훈련인원(명) [예상 수요] | N6: 훈련비 단가(원) | O6: 총 훈련비(원) | P6: 최근 3년 이내('23~'25) 훈련과정 운영 이력 | Q6: 훈련 실시 장소
D7: 대 | E7: 중 | F7: 소 | Q7: 시/도 단위 | R7: 주소지 | S7: 문의처
A8: (재)한국품질재단 | B8: =SUBTOTAL(3,$H8:H$8) -> 1 | C8: 환경ㆍ에너지ㆍ안전 | D8: =_xlfn.IFS(C8="사업관리","01",C8="경영ㆍ회계ㆍ사무","02",C8="금융ㆍ보험","03",C8="교육ㆍ자연ㆍ사회과학","04",C8="법률ㆍ경찰ㆍ소방ㆍ교도ㆍ국방","05",C8="보건ㆍ의료","06",C8="사회복지ㆍ종교","07",C8="문화ㆍ예술ㆍ디자인ㆍ방송","08",C8="운전ㆍ운송","09",C8="영업판매","10",C8="경비ㆍ청소","11",C8="이용ㆍ숙박ㆍ여행ㆍ오락ㆍ스포츠","12", C8="음식서비스","13", C8="건설","14", C8="기계","15",C8="재료","16",C8="화학ㆍ바이오","17",C8="섬유ㆍ의복","18",C8="전기ㆍ전자","19",C8="정보통신","20",C8="식품가공","21",C8="인쇄ㆍ목재ㆍ가구ㆍ공예","22",C8="환경ㆍ에너지ㆍ안전","23",C8="농림어업","24") -> 23 | E8: 04 | F8: 01 | G8: 일반형 | H8: 6시그마 기초(WB) | I8: X | J8: 14 | K8: 2 | L8: 연중 상시 | M8: 5 | N8: 520000 | O8: =M8*N8 -> 2600000 | P8: O | Q8: 서울 / 대구 / 부산 | R8: 서울특별시 송파구 삼전로 78, Q타워 대구광역시 달서구 성서공단로 217 대구비지니스센터 8층 부산광역시 사상구 모라로 22 8층 813호 | S8: (서울) 02-6277-9397 (대구) 053-719-3526 (부산) 051-831-0472
A9: (재)한국품질재단 | B9: =SUBTOTAL(3,$H$8:H9) -> 2 | C9: 환경ㆍ에너지ㆍ안전 | D9: =_xlfn.IFS(C9="사업관리","01",C9="경영ㆍ회계ㆍ사무","02",C9="금융ㆍ보험","03",C9="교육ㆍ자연ㆍ사회과학","04",C9="법률ㆍ경찰ㆍ소방ㆍ교도ㆍ국방","05",C9="보건ㆍ의료","06",C9="사회복지ㆍ종교","07",C9="문화ㆍ예술ㆍ디자인ㆍ방송","08",C9="운전ㆍ운송","09",C9="영업판매","10",C9="경비ㆍ청소","11",C9="이용ㆍ숙박ㆍ여행ㆍ오락ㆍ스포츠","12", C9="음식서비스","13", C9="건설","14", C9="기계","15",C9="재료","16",C9="화학ㆍ바이오","17",C9="섬유ㆍ의복","18",C9="전기ㆍ전자","19",C9="정보통신","20",C9="식품가공","21",C9="인쇄ㆍ목재ㆍ가구ㆍ공예","22",C9="환경ㆍ에너지ㆍ안전","23",C9="농림어업","24") -> 23 | E9: 04 | F9: 01 | G9: 일반형 | H9: 6시그마 리더(GB) | I9: X | J9: 21 | K9: 3 | L9: 연중 상시 | M9: 5 | N9: 650000 | O9: =M9*N9 -> 3250000 | P9: O | Q9: 서울 / 대구 / 부산 | R9: 서울특별시 송파구 삼전로 78, Q타워 대구광역시 달서구 성서공단로 217 대구비지니스센터 8층 부산광역시 사상구 모라로 22 8층 813호 | S9: (서울) 02-6277-9397 (대구) 053-719-3526 (부산) 051-831-0472
A10: (재)한국품질재단 | B10: =SUBTOTAL(3,$H$8:H10) -> 3 | C10: 환경ㆍ에너지ㆍ안전 | D10: =_xlfn.IFS(C10="사업관리","01",C10="경영ㆍ회계ㆍ사무","02",C10="금융ㆍ보험","03",C10="교육ㆍ자연ㆍ사회과학","04",C10="법률ㆍ경찰ㆍ소방ㆍ교도ㆍ국방","05",C10="보건ㆍ의료","06",C10="사회복지ㆍ종교","07",C10="문화ㆍ예술ㆍ디자인ㆍ방송","08",C10="운전ㆍ운송","09",C10="영업판매","10",C10="경비ㆍ청소","11",C10="이용ㆍ숙박ㆍ여행ㆍ오락ㆍ스포츠","12", C10="음식서비스","13", C10="건설","14", C10="기계","15",C10="재료","16",C10="화학ㆍ바이오","17",C10="섬유ㆍ의복","18",C10="전기ㆍ전자","19",C10="정보통신","20",C10="식품가공","21",C10="인쇄ㆍ목재ㆍ가구ㆍ공예","22",C10="환경ㆍ에너지ㆍ안전","23",C10="농림어업","24") -> 23 | E10: 04 | F10: 01 | G10: 일반형 | H10: 6시그마 전문가(BB) | I10: X | J10: 35 | K10: 5 | L10: 연중 상시 | M10: 5 | N10: 1000000 | O10: =M10*N10 -> 5000000 | P10: O | Q10: 서울 / 대구 / 부산 | R10: 서울특별시 송파구 삼전로 78, Q타워 대구광역시 달서구 성서공단로 217 대구비지니스센터 8층 부산광역시 사상구 모라로 22 8층 813호 | S10: (서울) 02-6277-9397 (대구) 053-719-3526 (부산) 051-831-0472
A11: (재)한국품질재단 | B11: =SUBTOTAL(3,$H$8:H11) -> 4 | C11: 경영ㆍ회계ㆍ사무 | D11: =_xlfn.IFS(C11="사업관리","01",C11="경영ㆍ회계ㆍ사무","02",C11="금융ㆍ보험","03",C11="교육ㆍ자연ㆍ사회과학","04",C11="법률ㆍ경찰ㆍ소방ㆍ교도ㆍ국방","05",C11="보건ㆍ의료","06",C11="사회복지ㆍ종교","07",C11="문화ㆍ예술ㆍ디자인ㆍ방송","08",C11="운전ㆍ운송","09",C11="영업판매","10",C11="경비ㆍ청소","11",C11="이용ㆍ숙박ㆍ여행ㆍ오락ㆍ스포츠","12", C11="음식서비스","13", C11="건설","14", C11="기계","15",C11="재료","16",C11="화학ㆍ바이오","17",C11="섬유ㆍ의복","18",C11="전기ㆍ전자","19",C11="정보통신","20",C11="식품가공","21",C11="인쇄ㆍ목재ㆍ가구ㆍ공예","22",C11="환경ㆍ에너지ㆍ안전","23",C11="농림어업","24") -> 02 | E11: 04 | F11: 02 | G11: 일반형 | H11: 8D 리포트를 활용한 품질문제 개선 | I11: X | J11: 14 | K11: 2 | L11: 연중 상시 | M11: 5 | N11: 520000 | O11: =M11*N11 -> 2600000 | P11: O | Q11: 서울 / 대구 / 부산 | R11: 서울특별시 송파구 삼전로 78, Q타워 대구광역시 달서구 성서공단로 217 대구비지니스센터 8층 부산광역시 사상구 모라로 22 8층 813호 | S11: (서울) 02-6277-9397 (대구) 053-719-3526 (부산) 051-831-0472
A12: (재)한국품질재단 | B12: =SUBTOTAL(3,$H$8:H12) -> 5 | C12: 경영ㆍ회계ㆍ사무 | D12: =_xlfn.IFS(C12="사업관리","01",C12="경영ㆍ회계ㆍ사무","02",C12="금융ㆍ보험","03",C12="교육ㆍ자연ㆍ사회과학","04",C12="법률ㆍ경찰ㆍ소방ㆍ교도ㆍ국방","05",C12="보건ㆍ의료","06",C12="사회복지ㆍ종교","07",C12="문화ㆍ예술ㆍ디자인ㆍ방송","08",C12="운전ㆍ운송","09",C12="영업판매","10",C12="경비ㆍ청소","11",C12="이용ㆍ숙박ㆍ여행ㆍ오락ㆍ스포츠","12", C12="음식서비스","13", C12="건설","14", C12="기계","15",C12="재료","16",C12="화학ㆍ바이오","17",C12="섬유ㆍ의복","18",C12="전기ㆍ전자","19",C12="정보통신","20",C12="식품가공","21",C12="인쇄ㆍ목재ㆍ가구ㆍ공예","22",C12="환경ㆍ에너지ㆍ안전","23",C12="농림어업","24") -> 02 | E12: 04 | F12: 02 | G12: 일반형 | H12: APQP & CP의 개념과 활용 | I12: X | J12: 14 | K12: 2 | L12: 연중 상시 | M12: 5 | N12: 520000 | O12: =M12*N12 -> 2600000 | P12: O | Q12: 서울 / 대구 / 부산 | R12: 서울특별시 송파구 삼전로 78, Q타워 대구광역시 달서구 성서공단로 217 대구비지니스센터 8층 부산광역시 사상구 모라로 22 8층 813호 | S12: (서울) 02-6277-9397 (대구) 053-719-3526 (부산) 051-831-0472
A13: (재)한국품질재단 | B13: =SUBTOTAL(3,$H$8:H13) -> 6 | C13: 환경ㆍ에너지ㆍ안전 | D13: =_xlfn.IFS(C13="사업관리","01",C13="경영ㆍ회계ㆍ사무","02",C13="금융ㆍ보험","03",C13="교육ㆍ자연ㆍ사회과학","04",C13="법률ㆍ경찰ㆍ소방ㆍ교도ㆍ국방","05",C13="보건ㆍ의료","06",C13="사회복지ㆍ종교","07",C13="문화ㆍ예술ㆍ디자인ㆍ방송","08",C13="운전ㆍ운송","09",C13="영업판매","10",C13="경비ㆍ청소","11",C13="이용ㆍ숙박ㆍ여행ㆍ오락ㆍ스포츠","12", C13="음식서비스","13", C13="건설","14", C13="기계","15",C13="재료","16",C13="화학ㆍ바이오","17",C13="섬유ㆍ의복","18",C13="전기ㆍ전자","19",C13="정보통신","20",C13="식품가공","21",C13="인쇄ㆍ목재ㆍ가구ㆍ공예","22",C13="환경ㆍ에너지ㆍ안전","23",C13="농림어업","24") -> 23 | E13: 04 | F13: 01 | G13: 일반형 | H13: Big Sigma를 활용한 품질 관리 향상과정 | I13: X | J13: 7 | K13: 1 | L13: 연중 상시 | M13: 5 | N13: 390000 | O13: =M13*N13 -> 1950000 | P13: O | Q13: 서울 / 대구 / 부산 | R13: 서울특별시 송파구 삼전로 78, Q타워 대구광역시 달서구 성서공단로 217 대구비지니스센터 8층 부산광역시 사상구 모라로 22 8층 813호 | S13: (서울) 02-6277-9397 (대구) 053-719-3526 (부산) 051-831-0472
A14: (재)한국품질재단 | B14: =SUBTOTAL(3,$H$8:H14) -> 7 | C14: 경영ㆍ회계ㆍ사무 | D14: =_xlfn.IFS(C14="사업관리","01",C14="경영ㆍ회계ㆍ사무","02",C14="금융ㆍ보험","03",C14="교육ㆍ자연ㆍ사회과학","04",C14="법률ㆍ경찰ㆍ소방ㆍ교도ㆍ국방","05",C14="보건ㆍ의료","06",C14="사회복지ㆍ종교","07",C14="문화ㆍ예술ㆍ디자인ㆍ방송","08",C14="운전ㆍ운송","09",C14="영업판매","10",C14="경비ㆍ청소","11",C14="이용ㆍ숙박ㆍ여행ㆍ오락ㆍ스포츠","12", C14="음식서비스","13", C14="건설","14", C14="기계","15",C14="재료","16",C14="화학ㆍ바이오","17",C14="섬유ㆍ의복","18",C14="전기ㆍ전자","19",C14="정보통신","20",C14="식품가공","21",C14="인쇄ㆍ목재ㆍ가구ㆍ공예","22",C14="환경ㆍ에너지ㆍ안전","23",C14="농림어업","24") -> 02 | E14: 04 | F14: 02 | G14: 일반형 | H14: CORE TOOL(핵심 부속서) 개념과 실무 활용 | I14: X | J14: 21 | K14: 3 | L14: 연중 상시 | M14: 5 | N14: 700000 | O14: =M14*N14 -> 3500000 | P14: O | Q14: 서울 / 대구 / 부산 | R14: 서울특별시 송파구 삼전로 78, Q타워 대구광역시 달서구 성서공단로 217 대구비지니스센터 8층 부산광역시 사상구 모라로 22 8층 813호 | S14: (서울) 02-6277-9397 (대구) 053-719-3526 (부산) 051-831-0472
A15: (재)한국품질재단 | B15: =SUBTOTAL(3,$H$8:H15) -> 8 | C15: 환경ㆍ에너지ㆍ안전 | D15: =_xlfn.IFS(C15="사업관리","01",C15="경영ㆍ회계ㆍ사무","02",C15="금융ㆍ보험","03",C15="교육ㆍ자연ㆍ사회과학","04",C15="법률ㆍ경찰ㆍ소방ㆍ교도ㆍ국방","05",C15="보건ㆍ의료","06",C15="사회복지ㆍ종교","07",C15="문화ㆍ예술ㆍ디자인ㆍ방송","08",C15="운전ㆍ운송","09",C15="영업판매","10",C15="경비ㆍ청소","11",C15="이용ㆍ숙박ㆍ여행ㆍ오락ㆍ스포츠","12", C15="음식서비스","13", C15="건설","14", C15="기계","15",C15="재료","16",C15="화학ㆍ바이오","17",C15="섬유ㆍ의복","18",C15="전기ㆍ전자","19",C15="정보통신","20",C15="식품가공","21",C15="인쇄ㆍ목재ㆍ가구ㆍ공예","22",C15="환경ㆍ에너지ㆍ안전","23",C15="농림어업","24") -> 23 | E15: 04 | F15: 01 | G15: 일반형 | H15: ESG 체제 구축 실무(중급) | I15: X | J15: 14 | K15: 2 | L15: 연중 상시 | M15: 5 | N15: 590000 | O15: =M15*N15 -> 2950000 | P15: O | Q15: 서울 / 대구 / 부산 | R15: 서울특별시 송파구 삼전로 78, Q타워 대구광역시 달서구 성서공단로 217 대구비지니스센터 8층 부산광역시 사상구 모라로 22 8층 813호 | S15: (서울) 02-6277-9397 (대구) 053-719-3526 (부산) 051-831-0472
A16: (재)한국품질재단 | B16: =SUBTOTAL(3,$H$8:H16) -> 9 | C16: 환경ㆍ에너지ㆍ안전 | D16: =_xlfn.IFS(C16="사업관리","01",C16="경영ㆍ회계ㆍ사무","02",C16="금융ㆍ보험","03",C16="교육ㆍ자연ㆍ사회과학","04",C16="법률ㆍ경찰ㆍ소방ㆍ교도ㆍ국방","05",C16="보건ㆍ의료","06",C16="사회복지ㆍ종교","07",C16="문화ㆍ예술ㆍ디자인ㆍ방송","08",C16="운전ㆍ운송","09",C16="영업판매","10",C16="경비ㆍ청소","11",C16="이용ㆍ숙박ㆍ여행ㆍ오락ㆍ스포츠","12", C16="음식서비스","13", C16="건설","14", C16="기계","15",C16="재료","16",C16="화학ㆍ바이오","17",C16="섬유ㆍ의복","18",C16="전기ㆍ전자","19",C16="정보통신","20",C16="식품가공","21",C16="인쇄ㆍ목재ㆍ가구ㆍ공예","22",C16="환경ㆍ에너지ㆍ안전","23",C16="농림어업","24") -> 23 | E16: 04 | F16: 01 | G16: 일반형 | H16: ESG 플러스 | I16: X | J16: 14 | K16: 2 | L16: 연중 상시 | M16: 5 | N16: 750000 | O16: =M16*N16 -> 3750000 | P16: O | Q16: 서울 / 대구 / 부산 | R16: 서울특별시 송파구 삼전로 78, Q타워 대구광역시 달서구 성서공단로 217 대구비지니스센터 8층 부산광역시 사상구 모라로 22 8층 813호 | S16: (서울) 02-6277-9397 (대구) 053-719-3526 (부산) 051-831-0472
A17: (재)한국품질재단 | B17: =SUBTOTAL(3,$H$8:H17) -> 10 | C17: 경영ㆍ회계ㆍ사무 | D17: =_xlfn.IFS(C17="사업관리","01",C17="경영ㆍ회계ㆍ사무","02",C17="금융ㆍ보험","03",C17="교육ㆍ자연ㆍ사회과학","04",C17="법률ㆍ경찰ㆍ소방ㆍ교도ㆍ국방","05",C17="보건ㆍ의료","06",C17="사회복지ㆍ종교","07",C17="문화ㆍ예술ㆍ디자인ㆍ방송","08",C17="운전ㆍ운송","09",C17="영업판매","10",C17="경비ㆍ청소","11",C17="이용ㆍ숙박ㆍ여행ㆍ오락ㆍ스포츠","12", C17="음식서비스","13", C17="건설","14", C17="기계","15",C17="재료","16",C17="화학ㆍ바이오","17",C17="섬유ㆍ의복","18",C17="전기ㆍ전자","19",C17="정보통신","20",C17="식품가공","21",C17="인쇄ㆍ목재ㆍ가구ㆍ공예","22",C17="환경ㆍ에너지ㆍ안전","23",C17="농림어업","24") -> 02 | E17: 4 | F17: 2 | G17: 일반형 | H17: IATF 16949 & 14001 통합 내부심사원 역량강화 | I17: X | J17: 21 | K17: 3 | L17: 연중 상시 | M17: 5 | N17: 720000 | O17: =M17*N17 -> 3600000 | P17: O | Q17: 서울 / 대구 / 부산 | R17: 서울특별시 송파구 삼전로 78, Q타워 대구광역시 달서구 성서공단로 217 대구비지니스센터 8층 부산광역시 사상구 모라로 22 8층 813호 | S17: (서울) 02-6277-9397 (대구) 053-719-3526 (부산) 051-831-0472
A18: (재)한국품질재단 | B18: =SUBTOTAL(3,$H$8:H18) -> 11 | C18: 경영ㆍ회계ㆍ사무 | D18: =_xlfn.IFS(C18="사업관리","01",C18="경영ㆍ회계ㆍ사무","02",C18="금융ㆍ보험","03",C18="교육ㆍ자연ㆍ사회과학","04",C18="법률ㆍ경찰ㆍ소방ㆍ교도ㆍ국방","05",C18="보건ㆍ의료","06",C18="사회복지ㆍ종교","07",C18="문화ㆍ예술ㆍ디자인ㆍ방송","08",C18="운전ㆍ운송","09",C18="영업판매","10",C18="경비ㆍ청소","11",C18="이용ㆍ숙박ㆍ여행ㆍ오락ㆍ스포츠","12", C18="음식서비스","13", C18="건설","14", C18="기계","15",C18="재료","16",C18="화학ㆍ바이오","17",C18="섬유ㆍ의복","18",C18="전기ㆍ전자","19",C18="정보통신","20",C18="식품가공","21",C18="인쇄ㆍ목재ㆍ가구ㆍ공예","22",C18="환경ㆍ에너지ㆍ안전","23",C18="농림어업","24") -> 02 | E18: 4 | F18: 2 | G18: 일반형 | H18: IATF 16949 내부심사원 역량강화 | I18: X | J18: 21 | K18: 3 | L18: 연중 상시 | M18: 5 | N18: 720000 | O18: =M18*N18 -> 3600000 | P18: O | Q18: 서울 / 대구 / 부산 | R18: 서울특별시 송파구 삼전로 78, Q타워 대구광역시 달서구 성서공단로 217 대구비지니스센터 8층 부산광역시 사상구 모라로 22 8층 813호 | S18: (서울) 02-6277-9397 (대구) 053-719-3526 (부산) 051-831-0472
A19: (재)한국품질재단 | B19: =SUBTOTAL(3,$H$8:H19) -> 12 | C19: 환경ㆍ에너지ㆍ안전 | D19: =_xlfn.IFS(C19="사업관리","01",C19="경영ㆍ회계ㆍ사무","02",C19="금융ㆍ보험","03",C19="교육ㆍ자연ㆍ사회과학","04",C19="법률ㆍ경찰ㆍ소방ㆍ교도ㆍ국방","05",C19="보건ㆍ의료","06",C19="사회복지ㆍ종교","07",C19="문화ㆍ예술ㆍ디자인ㆍ방송","08",C19="운전ㆍ운송","09",C19="영업판매","10",C19="경비ㆍ청소","11",C19="이용ㆍ숙박ㆍ여행ㆍ오락ㆍ스포츠","12", C19="음식서비스","13", C19="건설","14", C19="기계","15",C19="재료","16",C19="화학ㆍ바이오","17",C19="섬유ㆍ의복","18",C19="전기ㆍ전자","19",C19="정보통신","20",C19="식품가공","21",C19="인쇄ㆍ목재ㆍ가구ㆍ공예","22",C19="환경ㆍ에너지ㆍ안전","23",C19="농림어업","24") -> 23 | E19: 04 | F19: 01 | G19: 일반형 | H19: ISCC 인증 제도의 이해 | I19: X | J19: 7 | K19: 1 | L19: 연중 상시 | M19: 5 | N19: 500000 | O19: =M19*N19 -> 2500000 | P19: O | Q19: 서울 / 대구 / 부산 | R19: 서울특별시 송파구 삼전로 78, Q타워 대구광역시 달서구 성서공단로 217 대구비지니스센터 8층 부산광역시 사상구 모라로 22 8층 813호 | S19: (서울) 02-6277-9397 (대구) 053-719-3526 (부산) 051-831-0472
A20: (재)한국품질재단 | B20: =SUBTOTAL(3,$H$8:H20) -> 13 | C20: 환경ㆍ에너지ㆍ안전 | D20: =_xlfn.IFS(C20="사업관리","01",C20="경영ㆍ회계ㆍ사무","02",C20="금융ㆍ보험","03",C20="교육ㆍ자연ㆍ사회과학","04",C20="법률ㆍ경찰ㆍ소방ㆍ교도ㆍ국방","05",C20="보건ㆍ의료","06",C20="사회복지ㆍ종교","07",C20="문화ㆍ예술ㆍ디자인ㆍ방송","08",C20="운전ㆍ운송","09",C20="영업판매","10",C20="경비ㆍ청소","11",C20="이용ㆍ숙박ㆍ여행ㆍ오락ㆍ스포츠","12", C20="음식서비스","13", C20="건설","14", C20="기계","15",C20="재료","16",C20="화학ㆍ바이오","17",C20="섬유ㆍ의복","18",C20="전기ㆍ전자","19",C20="정보통신","20",C20="식품가공","21",C20="인쇄ㆍ목재ㆍ가구ㆍ공예","22",C20="환경ㆍ에너지ㆍ안전","23",C20="농림어업","24") -> 23 | E20: 04 | F20: 01 | G20: 일반형 | H20: ISO 14001 환경영향평가 이해 및 실무 적용 | I20: X | J20: 14 | K20: 2 | L20: 연중 상시 | M20: 5 | N20: 490000 | O20: =M20*N20 -> 2450000 | P20: O | Q20: 서울 / 대구 / 부산 | R20: 서울특별시 송파구 삼전로 78, Q타워 대구광역시 달서구 성서공단로 217 대구비지니스센터 8층 부산광역시 사상구 모라로 22 8층 813호 | S20: (서울) 02-6277-9397 (대구) 053-719-3526 (부산) 051-831-0472
... A123: (재)한국품질재단 | B123: =SUBTOTAL(3,$H$8:H123) -> 116 | C123: 경영ㆍ회계ㆍ사무 | D123: =_xlfn.IFS(C123="사업관리","01",C123="경영ㆍ회계ㆍ사무","02",C123="금융ㆍ보험","03",C123="교육ㆍ자연ㆍ사회과학","04",C123="법률ㆍ경찰ㆍ소방ㆍ교도ㆍ국방","05",C123="보건ㆍ의료","06",C123="사회복지ㆍ종교","07",C123="문화ㆍ예술ㆍ디자인ㆍ방송","08",C123="운전ㆍ운송","09",C123="영업판매","10",C123="경비ㆍ청소","11",C123="이용ㆍ숙박ㆍ여행ㆍ오락ㆍ스포츠","12", C123="음식서비스","13", C123="건설","14", C123="기계","15",C123="재료","16",C123="화학ㆍ바이오","17",C123="섬유ㆍ의복","18",C123="전기ㆍ전자","19",C123="정보통신","20",C123="식품가공","21",C123="인쇄ㆍ목재ㆍ가구ㆍ공예","22",C123="환경ㆍ에너지ㆍ안전","23",C123="농림어업","24") -> 02 | E123: 04 | F123: 02 | G123: 일반형 | H123: 품질코스트(Q-COST) 분석 및 활용 실무 | I123: X | J123: 14 | K123: 2 | L123: 연중 상시 | M123: 5 | N123: 520000 | O123: =M123*N123 -> 2600000 | P123: O | Q123: 서울 / 대구 / 부산 | R123: 서울특별시 송파구 삼전로 78, Q타워 대구광역시 달서구 성서공단로 217 대구비지니스센터 8층 부산광역시 사상구 모라로 22 8층 813호 | S123: (서울) 02-6277-9397 (대구) 053-719-3526 (부산) 051-831-0472

Sheet 6. 대원전기
A1: [작성방법(필독!)] 0. 모든 항목을 반드시 작성해야 하며, 미기재 항목이 있을 경우 심사대상에서 제외, 훈련기관명은 1번 시트 값이 자동입력되므로 직접입력 X 1. NCS 분류코드 : 해당 과정에 가장 주요하거나 많은 비중을 차지하는 내용을 토대로 각 분류상 가장 부합하는 코드를 작성(훈련기관 자체 판단) - NCS대분류명 기재 시 데이터박스 목록으로 설정, 대분류 숫자는 대분류명 선택시 자동입력되므로 직접입력 X 2. 비대면 실시간 운영 여부 : 집체형태 외 비대면 실시간 형태 운영 희망 시 'O' 체크(집체 형태는 기본적으로 모두 가능하며, 비대면 실시간 형태는 승인 과정에 한해 가능) 3. 훈련인원 : 기관에서 예상하는 해당 과정의 연간 훈련 실시인원 추정치 4. 훈련비 단가 : 1인, 1회 기준 훈련비용 5. 총 훈련비 : 총 훈련인원 X 훈련비 단가 6. 훈련일정 : 회차별 개설 예정 시기를 월 단위로 모두 기재('0월' 형태로 기재하거나 "연중 상시" 등 근로자 대상 충분히 안내 가능한 내용으로 작성) 7. 훈련실시장소 : 시/도 단위 및 정확한 주소를 각각 입력, 여러 장소에서 실시할 경우 셀 한개에 모두 입력(셀 구분 시 누락될 수 있음)
A6: 훈련기관명 | B6: 연번 | C6: NCS 대분류명 | D6: NCS 분류코드 | G6: 과정 유형 | H6: 훈련과정명 | I6: 비대면 실시간 운영 여부 | J6: 훈련시간 (H) | K6: 훈련기간 (일수) | L6: 훈련일정 | M6: 훈련인원(명) [예상 수요] | N6: 훈련비 단가(원) | O6: 총 훈련비(원) | P6: 최근 3년 이내('23~'25) 훈련과정 운영 이력 | Q6: 훈련 실시 장소
D7: 대 | E7: 중 | F7: 소 | Q7: 시/도 단위 | R7: 주소지 | S7: 문의처
A8: ㈜대원전기교육원 | B8: 1 | C8: 경영ㆍ회계ㆍ사무 | D8: 02 | E8: 03 | F8: 02 | G8: 일반형 | H8: 배전전문회사 신입사원교육 | I8: X | J8: 15 | K8: 2 | L8: 3월 | M8: 30 | N8: 550000 | O8: 16500000 | P8: O | Q8: 충북 | R8: (27913) 충북 증평군 증평읍 반여울길 32 | S8: 043-835-4372
A9: ㈜대원전기교육원 | B9: 2 | C9: 경영ㆍ회계ㆍ사무 | D9: 02 | E9: 03 | F9: 02 | G9: 일반형 | H9: 배전전문회사 전문실무자교육(주임/대리) | I9: X | J9: 15 | K9: 2 | L9: 3월 | M9: 30 | N9: 600000 | O9: 18000000 | P9: O | Q9: 충북 | R9: (27913) 충북 증평군 증평읍 반여울길 32 | S9: 043-835-4372
A10: ㈜대원전기교육원 | B10: 3 | C10: 경영ㆍ회계ㆍ사무 | D10: 02 | E10: 03 | F10: 02 | G10: 일반형 | H10: 배전전문회사 중간관리자교육(과장) | I10: X | J10: 15 | K10: 2 | L10: 3월 | M10: 30 | N10: 600000 | O10: 18000000 | P10: O | Q10: 충북 | R10: (27913) 충북 증평군 증평읍 반여울길 32 | S10: 043-835-4372
A11: ㈜대원전기교육원 | B11: 4 | C11: 경영ㆍ회계ㆍ사무 | D11: 02 | E11: 03 | F11: 02 | G11: 일반형 | H11: 배전전문회사 중간관리자교육(차장/부장) | I11: X | J11: 15 | K11: 2 | L11: 4월 | M11: 30 | N11: 600000 | O11: 18000000 | P11: O | Q11: 충북 | R11: (27913) 충북 증평군 증평읍 반여울길 32 | S11: 043-835-4372
A12: ㈜대원전기교육원 | B12: 5 | C12: 경영ㆍ회계ㆍ사무 | D12: 02 | E12: 03 | F12: 02 | G12: 일반형 | H12: 배전전문회사 팀장리더십교육 | I12: X | J12: 14 | K12: 2 | L12: 4월 | M12: 20 | N12: 600000 | O12: 12000000 | P12: O | Q12: 대전광역시 | R12: (35287) 대전광역시 서구 갈마로 160(괴정동, KT인재개발원) | S12: 043-835-4372
A13: ㈜대원전기교육원 | B13: 6 | C13: 경영ㆍ회계ㆍ사무 | D13: 02 | E13: 03 | F13: 02 | G13: 일반형 | H13: 배전전문회사 현장관리자교육 | I13: X | J13: 15 | K13: 2 | L13: 2월 | M13: 30 | N13: 600000 | O13: 18000000 | P13: X | Q13: 충북 | R13: (27913) 충북 증평군 증평읍 반여울길 32 | S13: 043-835-4372
A14: ㈜대원전기교육원 | B14: 7 | C14: 경영ㆍ회계ㆍ사무 | D14: 02 | E14: 02 | F14: 03 | G14: 일반형 | H14: 신입사원역량강화 과정 | I14: X | J14: 14 | K14: 2 | L14: 3~12월 | M14: 30 | N14: 550000 | O14: =M14*N14 -> 16500000 | P14: O | Q14: 충북 | R14: (27913) 충북 증평군 증평읍 반여울길 32 | S14: 043-835-4362
A15: ㈜대원전기교육원 | B15: 8 | C15: 경영ㆍ회계ㆍ사무 | D15: 02 | E15: 02 | F15: 03 | G15: 일반형 | H15: 중간관리자역량강화교육 | I15: X | J15: 14 | K15: 2 | L15: 3~12월 | M15: 30 | N15: 550000 | O15: =M15*N15 -> 16500000 | P15: O | Q15: 충북 | R15: (27913) 충북 증평군 증평읍 반여울길 32 | S15: 043-835-4362
A16: ㈜대원전기교육원 | B16: 9 | C16: 경영ㆍ회계ㆍ사무 | D16: 02 | E16: 02 | F16: 03 | G16: 일반형 | H16: 팀장리더십역량강화교육 | I16: X | J16: 14 | K16: 2 | L16: 3~12월 | M16: 30 | N16: 550000 | O16: =M16*N16 -> 16500000 | P16: O | Q16: 충북 | R16: (27913) 충북 증평군 증평읍 반여울길 32 | S16: 043-835-4362
A17: ㈜대원전기교육원 | B17: 10 | C17: 경영ㆍ회계ㆍ사무 | D17: 02 | E17: 02 | F17: 03 | G17: 일반형 | H17: 사내강사양성과정 교육 | I17: X | J17: 14 | K17: 2 | L17: 3~12월 | M17: 25 | N17: 550000 | O17: =M17*N17 -> 13750000 | P17: X | Q17: 충북 | R17: (27913) 충북 증평군 증평읍 반여울길 32 | S17: 043-835-4362
A18: ㈜대원전기교육원 | B18: 11 | C18: 경영ㆍ회계ㆍ사무 | D18: 02 | E18: 02 | F18: 03 | G18: 일반형 | H18: 채용에서 퇴직까지 핵심노동법 실무교육 | I18: X | J18: 14 | K18: 2 | L18: 3~12월 | M18: 30 | N18: 500000 | O18: =M18*N18 -> 15000000 | P18: X | Q18: 충북 | R18: (27913) 충북 증평군 증평읍 반여울길 32 | S18: 043-835-4362
A19: ㈜대원전기교육원 | B19: 12 | C19: 경영ㆍ회계ㆍ사무 | D19: 02 | E19: 01 | F19: 03 | G19: 일반형 | H19: 인사평가시스템 구축 실무교육 | I19: X | J19: 14 | K19: 2 | L19: 3~12월 | M19: 30 | N19: 500000 | O19: =M19*N19 -> 15000000 | P19: X | Q19: 충북 | R19: (27913) 충북 증평군 증평읍 반여울길 32 | S19: 043-835-4362
A20: ㈜대원전기교육원 | B20: 13 | C20: 경영ㆍ회계ㆍ사무 | D20: 02 | E20: 01 | F20: 02 | G20: 일반형 | H20: 총무업무 종합실무 역량강화교육 | I20: X | J20: 14 | K20: 2 | L20: 3~12월 | M20: 30 | N20: 500000 | O20: =M20*N20 -> 15000000 | P20: X | Q20: 충북 | R20: (27913) 충북 증평군 증평읍 반여울길 32 | S20: 043-835-4362
A21: ㈜대원전기교육원 | B21: 14 | C21: 경영ㆍ회계ㆍ사무 | D21: 02 | E21: 01 | F21: 02 | G21: 일반형 | H21: 기업회계 종합 실무교육 | I21: X | J21: 14 | K21: 2 | L21: 3~12월 | M21: 30 | N21: 500000 | O21: =M21*N21 -> 15000000 | P21: O | Q21: 충북 | R21: (27913) 충북 증평군 증평읍 반여울길 32 | S21: 043-835-4362
A22: ㈜대원전기교육원 | B22: 15 | C22: 경영ㆍ회계ㆍ사무 | D22: 02 | E22: 02 | F22: 02 | G22: 일반형 | H22: 연말정산 실무교육 | I22: X | J22: 7 | K22: 1 | L22: 3~12월 | M22: 30 | N22: 250000 | O22: =M22*N22 -> 7500000 | P22: X | Q22: 충북 | R22: (27913) 충북 증평군 증평읍 반여울길 32 | S22: 043-835-4362
A23: ㈜대원전기교육원 | B23: 16 | C23: 경영ㆍ회계ㆍ사무 | D23: 02 | E23: 02 | F23: 02 | G23: 일반형 | H23: 퍼실리테이션 스킬교육 | I23: X | J23: 14 | K23: 2 | L23: 3~12월 | M23: 30 | N23: 550000 | O23: =M23*N23 -> 16500000 | P23: X | Q23: 충북 | R23: (27913) 충북 증평군 증평읍 반여울길 32 | S23: 043-835-4362
A24: ㈜대원전기교육원 | B24: 17 | C24: 경영ㆍ회계ㆍ사무 | D24: 02 | E24: 02 | F24: 01 | G24: 일반형 | H24: 효과적인 회의운영 스킬UP 교육 | I24: X | J24: 7 | K24: 1 | L24: 3~12월 | M24: 30 | N24: 250000 | O24: =M24*N24 -> 7500000 | P24: X | Q24: 충북 | R24: (27913) 충북 증평군 증평읍 반여울길 32 | S24: 043-835-4362
A25: ㈜대원전기교육원 | B25: 18 | C25: 전기ㆍ전자 | D25: 19 | E25: 01 | F25: 07 | G25: 일반형 | H25: 건축물전기공사 현장공무 실무 | I25: X | J25: 14 | K25: 2 | L25: 2~12월 | M25: 60 | N25: 480000 | O25: =M25*N25 -> 28800000 | P25: X | Q25: 충북 | R25: (27913) 충북 증평군 증평읍 반여울길 32 | S25: 043-835-4362
A26: ㈜대원전기교육원 | B26: 19 | C26: 전기ㆍ전자 | D26: 19 | E26: 01 | F26: 07 | G26: 일반형 | H26: 외선공사 현장공무 실무 | I26: X | J26: 14 | K26: 2 | L26: 2~12월 | M26: 60 | N26: 480000 | O26: =M26*N26 -> 28800000 | P26: X | Q26: 충북 | R26: (27913) 충북 증평군 증평읍 반여울길 32 | S26: 043-835-4362
A27: ㈜대원전기교육원 | B27: 20 | C27: 전기ㆍ전자 | D27: 19 | E27: 01 | F27: 07 | G27: 일반형 | H27: 한국전기설비(KEC)규정 및 실무 | I27: X | J27: 14 | K27: 2 | L27: 2~12월 | M27: 60 | N27: 480000 | O27: =M27*N27 -> 28800000 | P27: X | Q27: 충북 | R27: (27913) 충북 증평군 증평읍 반여울길 32 | S27: 043-835-4362
A28: ㈜대원전기교육원 | B28: 21 | C28: 전기ㆍ전자 | D28: 19 | E28: 01 | F28: 07 | G28: 일반형 | H28: KEC 고압·특고압 전기설비 실무 | I28: X | J28: 14 | K28: 2 | L28: 2~12월 | M28: 60 | N28: 480000 | O28: =M28*N28 -> 28800000 | P28: X | Q28: 충북 | R28: (27913) 충북 증평군 증평읍 반여울길 32 | S28: 043-835-4362
A29: ㈜대원전기교육원 | B29: 22 | C29: 전기ㆍ전자 | D29: 19 | E29: 01 | F29: 07 | G29: 일반형 | H29: KEC 저압 전기설비 안전을 위한 보호 | I29: X | J29: 14 | K29: 2 | L29: 2~12월 | M29: 60 | N29: 480000 | O29: =M29*N29 -> 28800000 | P29: X | Q29: 충북 | R29: (27913) 충북 증평군 증평읍 반여울길 32 | S29: 043-835-4362
A30: ㈜대원전기교육원 | B30: 23 | C30: 전기ㆍ전자 | D30: 19 | E30: 01 | F30: 07 | G30: 일반형 | H30: 보호계전기정정 및 보호협조 | I30: X | J30: 14 | K30: 2 | L30: 2~12월 | M30: 60 | N30: 480000 | O30: =M30*N30 -> 28800000 | P30: X | Q30: 충북 | R30: (27913) 충북 증평군 증평읍 반여울길 32 | S30: 043-835-4362
A31: ㈜대원전기교육원 | B31: 24 | C31: 전기ㆍ전자 | D31: 19 | E31: 01 | F31: 07 | G31: 일반형 | H31: 수변전설비 및 예비전원설비실무 | I31: X | J31: 14 | K31: 2 | L31: 2~12월 | M31: 60 | N31: 480000 | O31: =M31*N31 -> 28800000 | P31: X | Q31: 충북 | R31: (27913) 충북 증평군 증평읍 반여울길 32 | S31: 043-835-4362
A32: ㈜대원전기교육원 | B32: 25 | C32: 전기ㆍ전자 | D32: 19 | E32: 01 | F32: 07 | G32: 일반형 | H32: 전기설비진단실무 | I32: X | J32: 14 | K32: 2 | L32: 2~12월 | M32: 60 | N32: 480000 | O32: =M32*N32 -> 28800000 | P32: X | Q32: 충북 | R32: (27913) 충북 증평군 증평읍 반여울길 32 | S32: 043-835-4362
A33: ㈜대원전기교육원 | B33: 26 | C33: 전기ㆍ전자 | D33: 19 | E33: 01 | F33: 07 | G33: 일반형 | H33: KEC 배선설비 설계 및 공사 실무 | I33: X | J33: 12 | K33: 2 | L33: 2~12월 | M33: 60 | N33: 480000 | O33: =M33*N33 -> 28800000 | P33: X | Q33: 충북 | R33: (27913) 충북 증평군 증평읍 반여울길 32 | S33: 043-835-4362
A34: ㈜대원전기교육원 | B34: 27 | C34: 법률ㆍ경찰ㆍ소방ㆍ교도ㆍ국방 | D34: 05 | E34: 02 | F34: 01 | G34: 일반형 | H34: 소방설비시공실무 | I34: X | J34: 14 | K34: 2 | L34: 2~12월 | M34: 60 | N34: 480000 | O34: =M34*N34 -> 28800000 | P34: X | Q34: 충북 | R34: (27913) 충북 증평군 증평읍 반여울길 32 | S34: 043-835-4362
A35: ㈜대원전기교육원 | B35: 28 | C35: 환경ㆍ에너지ㆍ안전 | D35: 23 | E35: 06 | F35: 01 | G35: 일반형 | H35: 중대재해처벌법 및 공사업법 실무 | I35: X | J35: 14 | K35: 2 | L35: 2~12월 | M35: 60 | N35: 480000 | O35: =M35*N35 -> 28800000 | P35: X | Q35: 충북 | R35: (27913) 충북 증평군 증평읍 반여울길 32 | S35: 043-835-4362
A36: ㈜대원전기교육원 | B36: 29 | C36: 환경ㆍ에너지ㆍ안전 | D36: 23 | E36: 05 | F36: 05 | G36: 일반형 | H36: 태양광발전 사업개발 실무 | I36: X | J36: 14 | K36: 2 | L36: 2~12월 | M36: 60 | N36: 480000 | O36: =M36*N36 -> 28800000 | P36: X | Q36: 충북 | R36: (27913) 충북 증평군 증평읍 반여울길 32 | S36: 043-835-4362
A37: ㈜대원전기교육원 | B37: 30 | C37: 전기ㆍ전자 | D37: 19 | E37: 01 | F37: 07 | G37: 일반형 | H37: 전기공사 입찰계약실무 | I37: X | J37: 10 | K37: 2 | L37: 2~12월 | M37: 60 | N37: 450000 | O37: =M37*N37 -> 27000000 | P37: X | Q37: 충북 | R37: (27913) 충북 증평군 증평읍 반여울길 32 | S37: 043-835-4362
A38: ㈜대원전기교육원 | B38: 31 | C38: 경영ㆍ회계ㆍ사무 | D38: 02 | E38: 02 | F38: 03 | G38: 일반형 | H38: 법인세.세무조정실무 완전정복 | I38: X | J38: 12 | K38: 2 | L38: 2~12월 | M38: 30 | N38: 500000 | O38: =M38*N38 -> 15000000 | P38: X | Q38: 충북 | R38: (27913) 충북 증평군 증평읍 반여울길 32 | S38: 043-835-4362
A39: ㈜대원전기교육원 | B39: 32 | C39: 정보통신 | D39: 20 | E39: 01 | F39: 07 | G39: AI융합형 | H39: 현장에서 바로 쓰이는 생성형AI업무 활용 (ChatGPT,Claude,Gemini 등) | I39: X | J39: 14 | K39: 2 | L39: 2~12월 | M39: 60 | N39: 550000 | O39: =M39*N39 -> 33000000 | P39: O | Q39: 충북 | R39: (27913) 충북 증평군 증평읍 반여울길 32 | S39: 043-835-4362
A40: ㈜대원전기교육원 | B40: 33 | C40: 정보통신 | D40: 20 | E40: 01 | F40: 07 | G40: AI융합형 | H40: 생성형 AI & Canva활용 문서기획실무 | I40: X | J40: 14 | K40: 2 | L40: 2~12월 | M40: 60 | N40: 550000 | O40: =M40*N40 -> 33000000 | P40: O | Q40: 충북 | R40: (27913) 충북 증평군 증평읍 반여울길 32 | S40: 043-835-4362

Sheet 7. 솔데스크
A3: 훈련기관명 | B3: 연번 | C3: NCS 대분류명 | D3: NCS 분류코드 | G3: 과정 유형 | H3: 훈련과정명 | I3: 비대면 실시간 운영 여부 | J3: 훈련시간 (H) | K3: 훈련기간 (일수) | L3: 훈련일정 | M3: 훈련인원(명) [예상 수요] | N3: 훈련비 단가(원) | O3: 총 훈련비(원) | P3: 최근 3년 이내('23~'25) 훈련과정 운영 이력 | Q3: 훈련 실시 장소
D4: 대 | E4: 중 | F4: 소 | Q4: 시/도 단위 | R4: 주소지 | S4: 문의처
A5: ㈜솔데스크 | B5: 1 | C5: 정보통신 | D5: =_xlfn.IFS(C5="사업관리","01",C5="경영ㆍ회계ㆍ사무","02",C5="금융ㆍ보험","03",C5="교육ㆍ자연ㆍ사회과학","04",C5="법률ㆍ경찰ㆍ소방ㆍ교도ㆍ국방","05",C5="보건ㆍ의료","06",C5="사회복지ㆍ종교","07",C5="문화ㆍ예술ㆍ디자인ㆍ방송","08",C5="운전ㆍ운송","09",C5="영업판매","10",C5="경비ㆍ청소","11",C5="이용ㆍ숙박ㆍ여행ㆍ오락ㆍ스포츠","12", C5="음식서비스","13", C5="건설","14", C5="기계","15",C5="재료","16",C5="화학ㆍ바이오","17",C5="섬유ㆍ의복","18",C5="전기ㆍ전자","19",C5="정보통신","20",C5="식품가공","21",C5="인쇄ㆍ목재ㆍ가구ㆍ공예","22",C5="환경ㆍ에너지ㆍ안전","23",C5="농림어업","24") -> 20 | E5: 01 | F5: 02 | G5: AI융합형 | H5: On-Premise Local LLM 기반 IaC 자동화 실습 | I5: O | J5: 40 | K5: 5 | L5: 3월 ~ 12월 수시(기업 수요기반 수시 운영) | M5: 20 | N5: 500000 | O5: =M5*N5 -> 10000000 | P5: X | Q5: 서울 | R5: (03190) 서울특별시 종로구 종로12길 15(관철동, 종로코아) 2층, 5층, 8층, 9층 | S5: 02-6901-7033
A6: ㈜솔데스크 | B6: 2 | C6: 정보통신 | D6: =_xlfn.IFS(C6="사업관리","01",C6="경영ㆍ회계ㆍ사무","02",C6="금융ㆍ보험","03",C6="교육ㆍ자연ㆍ사회과학","04",C6="법률ㆍ경찰ㆍ소방ㆍ교도ㆍ국방","05",C6="보건ㆍ의료","06",C6="사회복지ㆍ종교","07",C6="문화ㆍ예술ㆍ디자인ㆍ방송","08",C6="운전ㆍ운송","09",C6="영업판매","10",C6="경비ㆍ청소","11",C6="이용ㆍ숙박ㆍ여행ㆍ오락ㆍ스포츠","12", C6="음식서비스","13", C6="건설","14", C6="기계","15",C6="재료","16",C6="화학ㆍ바이오","17",C6="섬유ㆍ의복","18",C6="전기ㆍ전자","19",C6="정보통신","20",C6="식품가공","21",C6="인쇄ㆍ목재ㆍ가구ㆍ공예","22",C6="환경ㆍ에너지ㆍ안전","23",C6="농림어업","24") -> 20 | E6: 01 | F6: 02 | G6: AI융합형 | H6: OpenStack & Kubernetes 기반 폐쇄형 LLM 플랫폼 구축 | I6: O | J6: 40 | K6: 5 | L6: 3월 ~ 12월 수시(기업 수요기반 수시 운영) | M6: 20 | N6: 500000 | O6: =M6*N6 -> 10000000 | P6: X | Q6: 서울 | R6: (03190) 서울특별시 종로구 종로12길 15(관철동, 종로코아) 2층, 5층, 8층, 9층 | S6: 02-6901-7033
A7: ㈜솔데스크 | B7: 3 | C7: 정보통신 | D7: =_xlfn.IFS(C7="사업관리","01",C7="경영ㆍ회계ㆍ사무","02",C7="금융ㆍ보험","03",C7="교육ㆍ자연ㆍ사회과학","04",C7="법률ㆍ경찰ㆍ소방ㆍ교도ㆍ국방","05",C7="보건ㆍ의료","06",C7="사회복지ㆍ종교","07",C7="문화ㆍ예술ㆍ디자인ㆍ방송","08",C7="운전ㆍ운송","09",C7="영업판매","10",C7="경비ㆍ청소","11",C7="이용ㆍ숙박ㆍ여행ㆍ오락ㆍ스포츠","12", C7="음식서비스","13", C7="건설","14", C7="기계","15",C7="재료","16",C7="화학ㆍ바이오","17",C7="섬유ㆍ의복","18",C7="전기ㆍ전자","19",C7="정보통신","20",C7="식품가공","21",C7="인쇄ㆍ목재ㆍ가구ㆍ공예","22",C7="환경ㆍ에너지ㆍ안전","23",C7="농림어업","24") -> 20 | E7: 01 | F7: 02 | G7: AI융합형 | H7: 폐쇄형 LLM 기반 IaC 활용 | I7: O | J7: 40 | K7: 5 | L7: 3월 ~ 12월 수시(기업 수요기반 수시 운영) | M7: 20 | N7: 500000 | O7: =M7*N7 -> 10000000 | P7: X | Q7: 서울 | R7: (03190) 서울특별시 종로구 종로12길 15(관철동, 종로코아) 2층, 5층, 8층, 9층 | S7: 02-6901-7033
A8: ㈜솔데스크 | B8: 4 | C8: 정보통신 | D8: =_xlfn.IFS(C8="사업관리","01",C8="경영ㆍ회계ㆍ사무","02",C8="금융ㆍ보험","03",C8="교육ㆍ자연ㆍ사회과학","04",C8="법률ㆍ경찰ㆍ소방ㆍ교도ㆍ국방","05",C8="보건ㆍ의료","06",C8="사회복지ㆍ종교","07",C8="문화ㆍ예술ㆍ디자인ㆍ방송","08",C8="운전ㆍ운송","09",C8="영업판매","10",C8="경비ㆍ청소","11",C8="이용ㆍ숙박ㆍ여행ㆍ오락ㆍ스포츠","12", C8="음식서비스","13", C8="건설","14", C8="기계","15",C8="재료","16",C8="화학ㆍ바이오","17",C8="섬유ㆍ의복","18",C8="전기ㆍ전자","19",C8="정보통신","20",C8="식품가공","21",C8="인쇄ㆍ목재ㆍ가구ㆍ공예","22",C8="환경ㆍ에너지ㆍ안전","23",C8="농림어업","24") -> 20 | E8: 01 | F8: 03 | G8: AI융합형 | H8: Kafka 기반 작은 LLM 스트리밍 ML 파이프라인 | I8: O | J8: 40 | K8: 5 | L8: 3월 ~ 12월 수시(기업 수요기반 수시 운영) | M8: 20 | N8: 500000 | O8: =M8*N8 -> 10000000 | P8: X | Q8: 서울 | R8: (03190) 서울특별시 종로구 종로12길 15(관철동, 종로코아) 2층, 5층, 8층, 9층 | S8: 02-6901-7033
A9: ㈜솔데스크 | B9: 5 | C9: 정보통신 | D9: =_xlfn.IFS(C9="사업관리","01",C9="경영ㆍ회계ㆍ사무","02",C9="금융ㆍ보험","03",C9="교육ㆍ자연ㆍ사회과학","04",C9="법률ㆍ경찰ㆍ소방ㆍ교도ㆍ국방","05",C9="보건ㆍ의료","06",C9="사회복지ㆍ종교","07",C9="문화ㆍ예술ㆍ디자인ㆍ방송","08",C9="운전ㆍ운송","09",C9="영업판매","10",C9="경비ㆍ청소","11",C9="이용ㆍ숙박ㆍ여행ㆍ오락ㆍ스포츠","12", C9="음식서비스","13", C9="건설","14", C9="기계","15",C9="재료","16",C9="화학ㆍ바이오","17",C9="섬유ㆍ의복","18",C9="전기ㆍ전자","19",C9="정보통신","20",C9="식품가공","21",C9="인쇄ㆍ목재ㆍ가구ㆍ공예","22",C9="환경ㆍ에너지ㆍ안전","23",C9="농림어업","24") -> 20 | E9: 01 | F9: 03 | G9: AI융합형 | H9: Spark/Flink 기반 실시간 데이터 엔지니어링 | I9: O | J9: 40 | K9: 5 | L9: 3월 ~ 12월 수시(기업 수요기반 수시 운영) | M9: 20 | N9: 500000 | O9: =M9*N9 -> 10000000 | P9: X | Q9: 서울 | R9: (03190) 서울특별시 종로구 종로12길 15(관철동, 종로코아) 2층, 5층, 8층, 9층 | S9: 02-6901-7033
A10: ㈜솔데스크 | B10: 6 | C10: 정보통신 | D10: =_xlfn.IFS(C10="사업관리","01",C10="경영ㆍ회계ㆍ사무","02",C10="금융ㆍ보험","03",C10="교육ㆍ자연ㆍ사회과학","04",C10="법률ㆍ경찰ㆍ소방ㆍ교도ㆍ국방","05",C10="보건ㆍ의료","06",C10="사회복지ㆍ종교","07",C10="문화ㆍ예술ㆍ디자인ㆍ방송","08",C10="운전ㆍ운송","09",C10="영업판매","10",C10="경비ㆍ청소","11",C10="이용ㆍ숙박ㆍ여행ㆍ오락ㆍ스포츠","12", C10="음식서비스","13", C10="건설","14", C10="기계","15",C10="재료","16",C10="화학ㆍ바이오","17",C10="섬유ㆍ의복","18",C10="전기ㆍ전자","19",C10="정보통신","20",C10="식품가공","21",C10="인쇄ㆍ목재ㆍ가구ㆍ공예","22",C10="환경ㆍ에너지ㆍ안전","23",C10="농림어업","24") -> 20 | E10: 01 | F10: 03 | G10: 일반형 | H10: systemd 기반 표준 리눅스 통합 운영 실무(어드민) | I10: O | J10: 40 | K10: 5 | L10: 3월 ~ 12월 수시(기업 수요기반 수시 운영) | M10: 20 | N10: 440000 | O10: =M10*N10 -> 8800000 | P10: X | Q10: 서울 | R10: (03190) 서울특별시 종로구 종로12길 15(관철동, 종로코아) 2층, 5층, 8층, 9층 | S10: 02-6901-7033
A11: ㈜솔데스크 | B11: 7 | C11: 정보통신 | D11: =_xlfn.IFS(C11="사업관리","01",C11="경영ㆍ회계ㆍ사무","02",C11="금융ㆍ보험","03",C11="교육ㆍ자연ㆍ사회과학","04",C11="법률ㆍ경찰ㆍ소방ㆍ교도ㆍ국방","05",C11="보건ㆍ의료","06",C11="사회복지ㆍ종교","07",C11="문화ㆍ예술ㆍ디자인ㆍ방송","08",C11="운전ㆍ운송","09",C11="영업판매","10",C11="경비ㆍ청소","11",C11="이용ㆍ숙박ㆍ여행ㆍ오락ㆍ스포츠","12", C11="음식서비스","13", C11="건설","14", C11="기계","15",C11="재료","16",C11="화학ㆍ바이오","17",C11="섬유ㆍ의복","18",C11="전기ㆍ전자","19",C11="정보통신","20",C11="식품가공","21",C11="인쇄ㆍ목재ㆍ가구ㆍ공예","22",C11="환경ㆍ에너지ㆍ안전","23",C11="농림어업","24") -> 20 | E11: 01 | F11: 03 | G11: 일반형 | H11: systemd 기반 표준 리눅스 통합 운영·자동화 실무(엔지니어) | I11: O | J11: 40 | K11: 5 | L11: 3월 ~ 12월 수시(기업 수요기반 수시 운영) | M11: 20 | N11: 440000 | O11: =M11*N11 -> 8800000 | P11: X | Q11: 서울 | R11: (03190) 서울특별시 종로구 종로12길 15(관철동, 종로코아) 2층, 5층, 8층, 9층 | S11: 02-6901-7033
A12: ㈜솔데스크 | B12: 8 | C12: 정보통신 | D12: =_xlfn.IFS(C12="사업관리","01",C12="경영ㆍ회계ㆍ사무","02",C12="금융ㆍ보험","03",C12="교육ㆍ자연ㆍ사회과학","04",C12="법률ㆍ경찰ㆍ소방ㆍ교도ㆍ국방","05",C12="보건ㆍ의료","06",C12="사회복지ㆍ종교","07",C12="문화ㆍ예술ㆍ디자인ㆍ방송","08",C12="운전ㆍ운송","09",C12="영업판매","10",C12="경비ㆍ청소","11",C12="이용ㆍ숙박ㆍ여행ㆍ오락ㆍ스포츠","12", C12="음식서비스","13", C12="건설","14", C12="기계","15",C12="재료","16",C12="화학ㆍ바이오","17",C12="섬유ㆍ의복","18",C12="전기ㆍ전자","19",C12="정보통신","20",C12="식품가공","21",C12="인쇄ㆍ목재ㆍ가구ㆍ공예","22",C12="환경ㆍ에너지ㆍ안전","23",C12="농림어업","24") -> 20 | E12: 01 | F12: 03 | G12: 일반형 | H12: 컨버전스 리눅스(마이그레이션) | I12: O | J12: 40 | K12: 5 | L12: 3월 ~ 12월 수시(기업 수요기반 수시 운영) | M12: 20 | N12: 440000 | O12: =M12*N12 -> 8800000 | P12: X | Q12: 서울 | R12: (03190) 서울특별시 종로구 종로12길 15(관철동, 종로코아) 2층, 5층, 8층, 9층 | S12: 02-6901-7033
A13: ㈜솔데스크 | B13: 9 | C13: 정보통신 | D13: =_xlfn.IFS(C13="사업관리","01",C13="경영ㆍ회계ㆍ사무","02",C13="금융ㆍ보험","03",C13="교육ㆍ자연ㆍ사회과학","04",C13="법률ㆍ경찰ㆍ소방ㆍ교도ㆍ국방","05",C13="보건ㆍ의료","06",C13="사회복지ㆍ종교","07",C13="문화ㆍ예술ㆍ디자인ㆍ방송","08",C13="운전ㆍ운송","09",C13="영업판매","10",C13="경비ㆍ청소","11",C13="이용ㆍ숙박ㆍ여행ㆍ오락ㆍ스포츠","12", C13="음식서비스","13", C13="건설","14", C13="기계","15",C13="재료","16",C13="화학ㆍ바이오","17",C13="섬유ㆍ의복","18",C13="전기ㆍ전자","19",C13="정보통신","20",C13="식품가공","21",C13="인쇄ㆍ목재ㆍ가구ㆍ공예","22",C13="환경ㆍ에너지ㆍ안전","23",C13="농림어업","24") -> 20 | E13: 01 | F13: 02 | G13: 일반형 | H13: 표준 쉘 스크립트 | I13: O | J13: 40 | K13: 5 | L13: 3월 ~ 12월 수시(기업 수요기반 수시 운영) | M13: 20 | N13: 440000 | O13: =M13*N13 -> 8800000 | P13: X | Q13: 서울 | R13: (03190) 서울특별시 종로구 종로12길 15(관철동, 종로코아) 2층, 5층, 8층, 9층 | S13: 02-6901-7033
A14: ㈜솔데스크 | B14: 10 | C14: 정보통신 | D14: =_xlfn.IFS(C14="사업관리","01",C14="경영ㆍ회계ㆍ사무","02",C14="금융ㆍ보험","03",C14="교육ㆍ자연ㆍ사회과학","04",C14="법률ㆍ경찰ㆍ소방ㆍ교도ㆍ국방","05",C14="보건ㆍ의료","06",C14="사회복지ㆍ종교","07",C14="문화ㆍ예술ㆍ디자인ㆍ방송","08",C14="운전ㆍ운송","09",C14="영업판매","10",C14="경비ㆍ청소","11",C14="이용ㆍ숙박ㆍ여행ㆍ오락ㆍ스포츠","12", C14="음식서비스","13", C14="건설","14", C14="기계","15",C14="재료","16",C14="화학ㆍ바이오","17",C14="섬유ㆍ의복","18",C14="전기ㆍ전자","19",C14="정보통신","20",C14="식품가공","21",C14="인쇄ㆍ목재ㆍ가구ㆍ공예","22",C14="환경ㆍ에너지ㆍ안전","23",C14="농림어업","24") -> 20 | E14: 01 | F14: 03 | G14: 일반형 | H14: 표준 리눅스 클러스터링 시스템 | I14: O | J14: 40 | K14: 5 | L14: 3월 ~ 12월 수시(기업 수요기반 수시 운영) | M14: 20 | N14: 440000 | O14: =M14*N14 -> 8800000 | P14: X | Q14: 서울 | R14: (03190) 서울특별시 종로구 종로12길 15(관철동, 종로코아) 2층, 5층, 8층, 9층 | S14: 02-6901-7033
A15: ㈜솔데스크 | B15: 11 | C15: 정보통신 | D15: =_xlfn.IFS(C15="사업관리","01",C15="경영ㆍ회계ㆍ사무","02",C15="금융ㆍ보험","03",C15="교육ㆍ자연ㆍ사회과학","04",C15="법률ㆍ경찰ㆍ소방ㆍ교도ㆍ국방","05",C15="보건ㆍ의료","06",C15="사회복지ㆍ종교","07",C15="문화ㆍ예술ㆍ디자인ㆍ방송","08",C15="운전ㆍ운송","09",C15="영업판매","10",C15="경비ㆍ청소","11",C15="이용ㆍ숙박ㆍ여행ㆍ오락ㆍ스포츠","12", C15="음식서비스","13", C15="건설","14", C15="기계","15",C15="재료","16",C15="화학ㆍ바이오","17",C15="섬유ㆍ의복","18",C15="전기ㆍ전자","19",C15="정보통신","20",C15="식품가공","21",C15="인쇄ㆍ목재ㆍ가구ㆍ공예","22",C15="환경ㆍ에너지ㆍ안전","23",C15="농림어업","24") -> 20 | E15: 01 | F15: 03 | G15: 일반형 | H15: 표준 리눅스 트러블 슈팅 | I15: O | J15: 40 | K15: 5 | L15: 3월 ~ 12월 수시(기업 수요기반 수시 운영) | M15: 20 | N15: 440000 | O15: =M15*N15 -> 8800000 | P15: X | Q15: 서울 | R15: (03190) 서울특별시 종로구 종로12길 15(관철동, 종로코아) 2층, 5층, 8층, 9층 | S15: 02-6901-7033
A16: ㈜솔데스크 | B16: 12 | C16: 정보통신 | D16: =_xlfn.IFS(C16="사업관리","01",C16="경영ㆍ회계ㆍ사무","02",C16="금융ㆍ보험","03",C16="교육ㆍ자연ㆍ사회과학","04",C16="법률ㆍ경찰ㆍ소방ㆍ교도ㆍ국방","05",C16="보건ㆍ의료","06",C16="사회복지ㆍ종교","07",C16="문화ㆍ예술ㆍ디자인ㆍ방송","08",C16="운전ㆍ운송","09",C16="영업판매","10",C16="경비ㆍ청소","11",C16="이용ㆍ숙박ㆍ여행ㆍ오락ㆍ스포츠","12", C16="음식서비스","13", C16="건설","14", C16="기계","15",C16="재료","16",C16="화학ㆍ바이오","17",C16="섬유ㆍ의복","18",C16="전기ㆍ전자","19",C16="정보통신","20",C16="식품가공","21",C16="인쇄ㆍ목재ㆍ가구ㆍ공예","22",C16="환경ㆍ에너지ㆍ안전","23",C16="농림어업","24") -> 20 | E16: 01 | F16: 03 | G16: 일반형 | H16: 대형 리눅스 노드 관리 자동화 | I16: O | J16: 40 | K16: 5 | L16: 3월 ~ 12월 수시(기업 수요기반 수시 운영) | M16: 20 | N16: 500000 | O16: =M16*N16 -> 10000000 | P16: X | Q16: 서울 | R16: (03190) 서울특별시 종로구 종로12길 15(관철동, 종로코아) 2층, 5층, 8층, 9층 | S16: 02-6901-7033
... A36: ㈜솔데스크 | B36: 32 | C36: 정보통신 | D36: =_xlfn.IFS(C36="사업관리","01",C36="경영ㆍ회계ㆍ사무","02",C36="금융ㆍ보험","03",C36="교육ㆍ자연ㆍ사회과학","04",C36="법률ㆍ경찰ㆍ소방ㆍ교도ㆍ국방","05",C36="보건ㆍ의료","06",C36="사회복지ㆍ종교","07",C36="문화ㆍ예술ㆍ디자인ㆍ방송","08",C36="운전ㆍ운송","09",C36="영업판매","10",C36="경비ㆍ청소","11",C36="이용ㆍ숙박ㆍ여행ㆍ오락ㆍ스포츠","12", C36="음식서비스","13", C36="건설","14", C36="기계","15",C36="재료","16",C36="화학ㆍ바이오","17",C36="섬유ㆍ의복","18",C36="전기ㆍ전자","19",C36="정보통신","20",C36="식품가공","21",C36="인쇄ㆍ목재ㆍ가구ㆍ공예","22",C36="환경ㆍ에너지ㆍ안전","23",C36="농림어업","24") -> 20 | E36: 01 | F36: 07 | G36: AI융합형 | H36: AI Agent로 구현하는 기업분석 자동화 서비스 | I36: O | J36: 40 | K36: 5 | L36: 3월 ~ 12월 수시(기업 수요기반 수시 운영) | M36: 20 | N36: 400000 | O36: =M36*N36 -> 8000000 | P36: X | Q36: 서울 | R36: (03190) 서울특별시 종로구 종로12길 15(관철동, 종로코아) 2층, 5층, 8층, 9층 | S36: 02-6901-7033
A37: ㈜솔데스크 | B37: 33 | D37: =_xlfn.IFS(C37="사업관리","01",C37="경영ㆍ회계ㆍ사무","02",C37="금융ㆍ보험","03",C37="교육ㆍ자연ㆍ사회과학","04",C37="법률ㆍ경찰ㆍ소방ㆍ교도ㆍ국방","05",C37="보건ㆍ의료","06",C37="사회복지ㆍ종교","07",C37="문화ㆍ예술ㆍ디자인ㆍ방송","08",C37="운전ㆍ운송","09",C37="영업판매","10",C37="경비ㆍ청소","11",C37="이용ㆍ숙박ㆍ여행ㆍ오락ㆍ스포츠","12", C37="음식서비스","13", C37="건설","14", C37="기계","15",C37="재료","16",C37="화학ㆍ바이오","17",C37="섬유ㆍ의복","18",C37="전기ㆍ전자","19",C37="정보통신","20",C37="식품가공","21",C37="인쇄ㆍ목재ㆍ가구ㆍ공예","22",C37="환경ㆍ에너지ㆍ안전","23",C37="농림어업","24") -> #N/A
A38: ㈜솔데스크 | B38: 34 | D38: =_xlfn.IFS(C38="사업관리","01",C38="경영ㆍ회계ㆍ사무","02",C38="금융ㆍ보험","03",C38="교육ㆍ자연ㆍ사회과학","04",C38="법률ㆍ경찰ㆍ소방ㆍ교도ㆍ국방","05",C38="보건ㆍ의료","06",C38="사회복지ㆍ종교","07",C38="문화ㆍ예술ㆍ디자인ㆍ방송","08",C38="운전ㆍ운송","09",C38="영업판매","10",C38="경비ㆍ청소","11",C38="이용ㆍ숙박ㆍ여행ㆍ오락ㆍ스포츠","12", C38="음식서비스","13", C38="건설","14", C38="기계","15",C38="재료","16",C38="화학ㆍ바이오","17",C38="섬유ㆍ의복","18",C38="전기ㆍ전자","19",C38="정보통신","20",C38="식품가공","21",C38="인쇄ㆍ목재ㆍ가구ㆍ공예","22",C38="환경ㆍ에너지ㆍ안전","23",C38="농림어업","24") -> #N/A
A39: ㈜솔데스크 | B39: 35 | D39: =_xlfn.IFS(C39="사업관리","01",C39="경영ㆍ회계ㆍ사무","02",C39="금융ㆍ보험","03",C39="교육ㆍ자연ㆍ사회과학","04",C39="법률ㆍ경찰ㆍ소방ㆍ교도ㆍ국방","05",C39="보건ㆍ의료","06",C39="사회복지ㆍ종교","07",C39="문화ㆍ예술ㆍ디자인ㆍ방송","08",C39="운전ㆍ운송","09",C39="영업판매","10",C39="경비ㆍ청소","11",C39="이용ㆍ숙박ㆍ여행ㆍ오락ㆍ스포츠","12", C39="음식서비스","13", C39="건설","14", C39="기계","15",C39="재료","16",C39="화학ㆍ바이오","17",C39="섬유ㆍ의복","18",C39="전기ㆍ전자","19",C39="정보통신","20",C39="식품가공","21",C39="인쇄ㆍ목재ㆍ가구ㆍ공예","22",C39="환경ㆍ에너지ㆍ안전","23",C39="농림어업","24") -> #N/A
A40: ㈜솔데스크 | B40: 36 | D40: =_xlfn.IFS(C40="사업관리","01",C40="경영ㆍ회계ㆍ사무","02",C40="금융ㆍ보험","03",C40="교육ㆍ자연ㆍ사회과학","04",C40="법률ㆍ경찰ㆍ소방ㆍ교도ㆍ국방","05",C40="보건ㆍ의료","06",C40="사회복지ㆍ종교","07",C40="문화ㆍ예술ㆍ디자인ㆍ방송","08",C40="운전ㆍ운송","09",C40="영업판매","10",C40="경비ㆍ청소","11",C40="이용ㆍ숙박ㆍ여행ㆍ오락ㆍ스포츠","12", C40="음식서비스","13", C40="건설","14", C40="기계","15",C40="재료","16",C40="화학ㆍ바이오","17",C40="섬유ㆍ의복","18",C40="전기ㆍ전자","19",C40="정보통신","20",C40="식품가공","21",C40="인쇄ㆍ목재ㆍ가구ㆍ공예","22",C40="환경ㆍ에너지ㆍ안전","23",C40="농림어업","24") -> #N/A
A41: ㈜솔데스크 | B41: 37 | D41: =_xlfn.IFS(C41="사업관리","01",C41="경영ㆍ회계ㆍ사무","02",C41="금융ㆍ보험","03",C41="교육ㆍ자연ㆍ사회과학","04",C41="법률ㆍ경찰ㆍ소방ㆍ교도ㆍ국방","05",C41="보건ㆍ의료","06",C41="사회복지ㆍ종교","07",C41="문화ㆍ예술ㆍ디자인ㆍ방송","08",C41="운전ㆍ운송","09",C41="영업판매","10",C41="경비ㆍ청소","11",C41="이용ㆍ숙박ㆍ여행ㆍ오락ㆍ스포츠","12", C41="음식서비스","13", C41="건설","14", C41="기계","15",C41="재료","16",C41="화학ㆍ바이오","17",C41="섬유ㆍ의복","18",C41="전기ㆍ전자","19",C41="정보통신","20",C41="식품가공","21",C41="인쇄ㆍ목재ㆍ가구ㆍ공예","22",C41="환경ㆍ에너지ㆍ안전","23",C41="농림어업","24") -> #N/A
A42: ㈜솔데스크 | B42: 38 | D42: =_xlfn.IFS(C42="사업관리","01",C42="경영ㆍ회계ㆍ사무","02",C42="금융ㆍ보험","03",C42="교육ㆍ자연ㆍ사회과학","04",C42="법률ㆍ경찰ㆍ소방ㆍ교도ㆍ국방","05",C42="보건ㆍ의료","06",C42="사회복지ㆍ종교","07",C42="문화ㆍ예술ㆍ디자인ㆍ방송","08",C42="운전ㆍ운송","09",C42="영업판매","10",C42="경비ㆍ청소","11",C42="이용ㆍ숙박ㆍ여행ㆍ오락ㆍ스포츠","12", C42="음식서비스","13", C42="건설","14", C42="기계","15",C42="재료","16",C42="화학ㆍ바이오","17",C42="섬유ㆍ의복","18",C42="전기ㆍ전자","19",C42="정보통신","20",C42="식품가공","21",C42="인쇄ㆍ목재ㆍ가구ㆍ공예","22",C42="환경ㆍ에너지ㆍ안전","23",C42="농림어업","24") -> #N/A

Sheet 5. 고려
A1: [작성방법(필독!)] 0. 모든 항목을 반드시 작성해야 하며, 미기재 항목이 있을 경우 심사대상에서 제외, 훈련기관명은 1번 시트 값이 자동입력되므로 직접입력 X 1. NCS 분류코드 : 해당 과정에 가장 주요하거나 많은 비중을 차지하는 내용을 토대로 각 분류상 가장 부합하는 코드를 작성(훈련기관 자체 판단) - NCS대분류명 기재 시 데이터박스 목록으로 설정, 대분류 숫자는 대분류명 선택시 자동입력되므로 직접입력 X 2. 비대면 실시간 운영 여부 : 집체형태 외 비대면 실시간 형태 운영 희망 시 'O' 체크(집체 형태는 기본적으로 모두 가능하며, 비대면 실시간 형태는 승인 과정에 한해 가능) 3. 훈련인원 : 기관에서 예상하는 해당 과정의 연간 훈련 실시인원 추정치 4. 훈련비 단가 : 1인, 1회 기준 훈련비용 5. 총 훈련비 : 총 훈련인원 X 훈련비 단가 6. 훈련일정 : 회차별 개설 예정 시기를 월 단위로 모두 기재('0월' 형태로 기재하거나 "연중 상시" 등 근로자 대상 충분히 안내 가능한 내용으로 작성) 7. 훈련실시장소 : 시/도 단위 및 정확한 주소를 각각 입력, 여러 장소에서 실시할 경우 셀 한개에 모두 입력(셀 구분 시 누락될 수 있음)
A6: 훈련기관명 | B6: 연번 | C6: NCS 대분류명 | D6: NCS 분류코드 | G6: 과정 유형 | H6: 훈련과정명 | I6: 비대면 실시간 운영 여부 | J6: 훈련시간 (H) | K6: 훈련기간 (일수) | L6: 훈련일정 | M6: 훈련인원(명) [예상 수요] | N6: 훈련비 단가(원) | O6: 총 훈련비(원) | P6: 최근 3년 이내('23~'25) 훈련과정 운영 이력 | Q6: 훈련 실시 장소
D7: 대 | E7: 중 | F7: 소 | Q7: 시/도 단위 | R7: 주소지 | S7: 문의처
A8: ㈜고려아카데미컨설팅 | B8: 1 | C8: 경영ㆍ회계ㆍ사무 | D8: =VLOOKUP(C8,$A$37:$B$60,2,0) -> 2 | E8: 03 | F8: 02 | G8: 일반형 | H8: 재무제표 및 보고서 읽는 방법 | I8: O | J8: 8 | K8: 1 | L8: 1~12월 (연중상시) | M8: 40 | N8: 250000 | O8: =M8*N8 -> 10000000 | P8: O | Q8: 서울시 | R8: (08512) 서울시 금천구 디지털로9길 32 갑을그레이트밸리 B동 17층 | S8: 02-2106-8800
A9: ㈜고려아카데미컨설팅 | B9: 2 | C9: 경영ㆍ회계ㆍ사무 | D9: =VLOOKUP(C9,$A$37:$B$60,2,0) -> 2 | E9: 03 | F9: 02 | G9: 일반형 | H9: 재무제표 보는 법과 재무보고서 활용 실무 | I9: O | J9: 8 | K9: 1 | L9: 1~12월 (연중상시) | M9: 40 | N9: 250000 | O9: =M9*N9 -> 10000000 | P9: O | Q9: 서울시 | R9: (08512) 서울시 금천구 디지털로9길 32 갑을그레이트밸리 B동 17층 | S9: 02-2106-8800
A10: ㈜고려아카데미컨설팅 | B10: 3 | C10: 경영ㆍ회계ㆍ사무 | D10: =VLOOKUP(C10,$A$37:$B$60,2,0) -> 2 | E10: 02 | F10: 01 | G10: AI융합형 | H10: AI 활용한 기획 및 보고서 작성 과정 | I10: O | J10: 8 | K10: 1 | L10: 1~12월 (연중상시) | M10: 150 | N10: 270000 | O10: =M10*N10 -> 40500000 | P10: O | Q10: 서울시 | R10: (08512) 서울시 금천구 디지털로9길 32 갑을그레이트밸리 B동 17층 | S10: 02-2106-8800
A11: ㈜고려아카데미컨설팅 | B11: 4 | C11: 경영ㆍ회계ㆍ사무 | D11: =VLOOKUP(C11,$A$37:$B$60,2,0) -> 2 | E11: 02 | F11: 01 | G11: 일반형 | H11: 스마트워크: 생각정리스킬 | I11: O | J11: 7 | K11: 1 | L11: 1~12월 (연중상시) | M11: 40 | N11: 250000 | O11: =M11*N11 -> 10000000 | P11: O | Q11: 서울시 | R11: (08512) 서울시 금천구 디지털로9길 32 갑을그레이트밸리 B동 17층 | S11: 02-2106-8800
A12: ㈜고려아카데미컨설팅 | B12: 5 | C12: 경영ㆍ회계ㆍ사무 | D12: =VLOOKUP(C12,$A$37:$B$60,2,0) -> 2 | E12: 02 | F12: 02 | G12: 일반형 | H12: FIRO-B를 활용한 리더십 테라피 | I12: O | J12: 7 | K12: 1 | L12: 1~12월 (연중상시) | M12: 30 | N12: 270000 | O12: =M12*N12 -> 8100000 | P12: O | Q12: 서울시 | R12: (08512) 서울시 금천구 디지털로9길 32 갑을그레이트밸리 B동 17층 | S12: 02-2106-8800
A13: ㈜고려아카데미컨설팅 | B13: 6 | C13: 경영ㆍ회계ㆍ사무 | D13: =VLOOKUP(C13,$A$37:$B$60,2,0) -> 2 | E13: 02 | F13: 03 | G13: 일반형 | H13: 발표자로 거듭나는 실전 노하우 『프레젠테이션 스킬업』 | I13: O | J13: 8 | K13: 1 | L13: 1~12월 (연중상시) | M13: 30 | N13: 250000 | O13: =M13*N13 -> 7500000 | P13: O | Q13: 서울시 | R13: (08512) 서울시 금천구 디지털로9길 32 갑을그레이트밸리 B동 17층 | S13: 02-2106-8800
A14: ㈜고려아카데미컨설팅 | B14: 7 | C14: 경영ㆍ회계ㆍ사무 | D14: =VLOOKUP(C14,$A$37:$B$60,2,0) -> 2 | E14: 02 | F14: 01 | G14: AI융합형 | H14: AI 시대, 일잘러가 문제를 해결하는 법 | I14: O | J14: 7 | K14: 1 | L14: 1~12월 (연중상시) | M14: 80 | N14: 270000 | O14: =M14*N14 -> 21600000 | P14: O | Q14: 서울시 | R14: (08512) 서울시 금천구 디지털로9길 32 갑을그레이트밸리 B동 17층 | S14: 02-2106-8800
A15: ㈜고려아카데미컨설팅 | B15: 8 | C15: 경영ㆍ회계ㆍ사무 | D15: =VLOOKUP(C15,$A$37:$B$60,2,0) -> 2 | E15: 02 | F15: 01 | G15: AI융합형 | H15: 디자인씽킹과 문제해결 과정 | I15: O | J15: 7 | K15: 1 | L15: 1~12월 (연중상시) | M15: 20 | N15: 250000 | O15: =M15*N15 -> 5000000 | P15: O | Q15: 서울시 | R15: (08512) 서울시 금천구 디지털로9길 32 갑을그레이트밸리 B동 17층 | S15: 02-2106-8800
A16: ㈜고려아카데미컨설팅 | B16: 9 | C16: 경영ㆍ회계ㆍ사무 | D16: =VLOOKUP(C16,$A$37:$B$60,2,0) -> 2 | E16: 02 | F16: 03 | G16: AI융합형 | H16: 효과적 업무관리 IPO과정 | I16: O | J16: 7 | K16: 1 | L16: 1~12월 (연중상시) | M16: 50 | N16: 250000 | O16: =M16*N16 -> 12500000 | P16: O | Q16: 서울시 | R16: (08512) 서울시 금천구 디지털로9길 32 갑을그레이트밸리 B동 17층 | S16: 02-2106-8800
A17: ㈜고려아카데미컨설팅 | B17: 10 | C17: 경영ㆍ회계ㆍ사무 | D17: =VLOOKUP(C17,$A$37:$B$60,2,0) -> 2 | E17: 02 | F17: 02 | G17: 일반형 | H17: 생성형 AI활용한 AＩ리더십과정 | I17: O | J17: 6 | K17: 1 | L17: 1~12월 (연중상시) | M17: 30 | N17: 270000 | O17: =M17*N17 -> 8100000 | P17: O | Q17: 서울시 | R17: (08512) 서울시 금천구 디지털로9길 32 갑을그레이트밸리 B동 17층 | S17: 02-2106-8800
A18: ㈜고려아카데미컨설팅 | B18: 11 | C18: 경영ㆍ회계ㆍ사무 | D18: =VLOOKUP(C18,$A$37:$B$60,2,0) -> 2 | E18: 02 | F18: 02 | G18: 일반형 | H18: 사내강사양성과정 | I18: O | J18: 14 | K18: 2 | L18: 1~12월 (연중상시) | M18: 20 | N18: 550000 | O18: =M18*N18 -> 11000000 | P18: O | Q18: 서울시 | R18: (08512) 서울시 금천구 디지털로9길 32 갑을그레이트밸리 B동 17층 | S18: 02-2106-8800
A19: ㈜고려아카데미컨설팅 | B19: 12 | C19: 경영ㆍ회계ㆍ사무 | D19: =VLOOKUP(C19,$A$37:$B$60,2,0) -> 2 | E19: 02 | F19: 03 | G19: AI융합형 | H19: 생성형 인공지능 실무 활용 | I19: O | J19: 7 | K19: 1 | L19: 1~12월 (연중상시) | M19: 250 | N19: 350000 | O19: =M19*N19 -> 87500000 | P19: O | Q19: 서울시 | R19: (08512) 서울시 금천구 디지털로9길 32 갑을그레이트밸리 B동 17층 | S19: 02-2106-8800
... A32: ㈜고려아카데미컨설팅 | B32: 25 | C32: 경영ㆍ회계ㆍ사무 | D32: =VLOOKUP(C32,$A$37:$B$60,2,0) -> 2 | E32: 02 | F32: 02 | G32: 일반형 | H32: 협업과 소통 장벽제거_ 협업리더십 과정 | I32: O | J32: 7 | K32: 1 | L32: 1~12월 (연중상시) | M32: 20 | N32: 220000 | O32: =M32*N32 -> 4400000 | P32: O | Q32: 서울시 | R32: (08512) 서울시 금천구 디지털로9길 32 갑을그레이트밸리 B동 17층 | S32: 02-2106-8800
A36: 직무분야 | B36: 코드
A37: 사업관리 | B37: 1
A38: 경영ㆍ회계ㆍ사무 | B38: 2
A39: 금융ㆍ보험 | B39: 3
A40: 교육ㆍ자연ㆍ사회과학 | B40: 4
A41: 법률ㆍ경찰ㆍ소방ㆍ교도ㆍ국방 | B41: 5
A42: 보건ㆍ의료 | B42: 6
A43: 사회복지ㆍ종교 | B43: 7
A44: 문화ㆍ예술ㆍ디자인ㆍ방송 | B44: 8
A45: 운전ㆍ운송 | B45: 9
A46: 영업판매 | B46: 10
A47: 경비ㆍ청소 | B47: 11
A48: 이용ㆍ숙박ㆍ여행ㆍ오락ㆍ스포츠 | B48: 12
... A60: 농림어업 | B60: 24

Sheet 8. 스마트소셜
A1: [작성방법(필독!)] 0. 모든 항목을 반드시 작성해야 하며, 미기재 항목이 있을 경우 심사대상에서 제외, 훈련기관명은 1번 시트 값이 자동입력되므로 직접입력 X 1. NCS 분류코드 : 해당 과정에 가장 주요하거나 많은 비중을 차지하는 내용을 토대로 각 분류상 가장 부합하는 코드를 작성(훈련기관 자체 판단) - NCS대분류명 기재 시 데이터박스 목록으로 설정, 대분류 숫자는 대분류명 선택시 자동입력되므로 직접입력 X 2. 비대면 실시간 운영 여부 : 집체형태 외 비대면 실시간 형태 운영 희망 시 'O' 체크(집체 형태는 기본적으로 모두 가능하며, 비대면 실시간 형태는 승인 과정에 한해 가능) 3. 훈련인원 : 기관에서 예상하는 해당 과정의 연간 훈련 실시인원 추정치 4. 훈련비 단가 : 1인, 1회 기준 훈련비용 5. 총 훈련비 : 총 훈련인원 X 훈련비 단가 6. 훈련일정 : 회차별 개설 예정 시기를 월 단위로 모두 기재('0월' 형태로 기재하거나 "연중 상시" 등 근로자 대상 충분히 안내 가능한 내용으로 작성) 7. 훈련실시장소 : 시/도 단위 및 정확한 주소를 각각 입력, 여러 장소에서 실시할 경우 셀 한개에 모두 입력(셀 구분 시 누락될 수 있음)
A6: 훈련기관명 | B6: 연번 | C6: NCS 대분류명 | D6: NCS 분류코드 | G6: 과정 유형 | H6: 훈련과정명 | I6: 비대면 실시간 운영 여부 | J6: 훈련시간 (H) | K6: 훈련기간 (일수) | L6: 훈련일정 | M6: 훈련인원(명) [예상 수요] | N6: 훈련비 단가(원) | O6: 총 훈련비(원) | P6: 최근 3년 이내('23~'25) 훈련과정 운영 이력 | Q6: 훈련 실시 장소
D7: 대 | E7: 중 | F7: 소 | Q7: 시/도 단위 | R7: 주소지 | S7: 문의처
A8: ㈜스마트소셜 | B8: 1 | C8: 정보통신 | D8: =_xlfn.IFS(C8="사업관리","01",C8="경영ㆍ회계ㆍ사무","02",C8="금융ㆍ보험","03",C8="교육ㆍ자연ㆍ사회과학","04",C8="법률ㆍ경찰ㆍ소방ㆍ교도ㆍ국방","05",C8="보건ㆍ의료","06",C8="사회복지ㆍ종교","07",C8="문화ㆍ예술ㆍ디자인ㆍ방송","08",C8="운전ㆍ운송","09",C8="영업판매","10",C8="경비ㆍ청소","11",C8="이용ㆍ숙박ㆍ여행ㆍ오락ㆍ스포츠","12", C8="음식서비스","13", C8="건설","14", C8="기계","15",C8="재료","16",C8="화학ㆍ바이오","17",C8="섬유ㆍ의복","18",C8="전기ㆍ전자","19",C8="정보통신","20",C8="식품가공","21",C8="인쇄ㆍ목재ㆍ가구ㆍ공예","22",C8="환경ㆍ에너지ㆍ안전","23",C8="농림어업","24") -> 20 | E8: 01 | F8: 07 | G8: AI융합형 | H8: Canva & AWS Partyrock 활용을 통한 노코드 AI 앱 빌딩 | I8: O | J8: 6 | K8: 1 | L8: 1~12월 | M8: 30 | N8: 480000 | O8: =M8*N8 -> 14400000 | P8: O | Q8: 부산시 | R8: 부산시 해운대구 수영강변대로 140 BCC 726호 | S8: 051-717-0160
A9: ㈜스마트소셜 | B9: 2 | C9: 정보통신 | D9: =_xlfn.IFS(C9="사업관리","01",C9="경영ㆍ회계ㆍ사무","02",C9="금융ㆍ보험","03",C9="교육ㆍ자연ㆍ사회과학","04",C9="법률ㆍ경찰ㆍ소방ㆍ교도ㆍ국방","05",C9="보건ㆍ의료","06",C9="사회복지ㆍ종교","07",C9="문화ㆍ예술ㆍ디자인ㆍ방송","08",C9="운전ㆍ운송","09",C9="영업판매","10",C9="경비ㆍ청소","11",C9="이용ㆍ숙박ㆍ여행ㆍ오락ㆍ스포츠","12", C9="음식서비스","13", C9="건설","14", C9="기계","15",C9="재료","16",C9="화학ㆍ바이오","17",C9="섬유ㆍ의복","18",C9="전기ㆍ전자","19",C9="정보통신","20",C9="식품가공","21",C9="인쇄ㆍ목재ㆍ가구ㆍ공예","22",C9="환경ㆍ에너지ㆍ안전","23",C9="농림어업","24") -> 20 | E9: 01 | F9: 07 | G9: AI융합형 | H9: Slack & Runbear를 활용한 AI 에이전트 구축 & 커스텀 AI 앱 제작 | I9: O | J9: 8 | K9: 1 | L9: 1~12월 | M9: 40 | N9: 640000 | O9: =M9*N9 -> 25600000 | P9: O | Q9: 부산시 | R9: 부산시 해운대구 수영강변대로 140 BCC 726호 | S9: 051-717-0160
A10: ㈜스마트소셜 | B10: 3 | C10: 정보통신 | D10: =_xlfn.IFS(C10="사업관리","01",C10="경영ㆍ회계ㆍ사무","02",C10="금융ㆍ보험","03",C10="교육ㆍ자연ㆍ사회과학","04",C10="법률ㆍ경찰ㆍ소방ㆍ교도ㆍ국방","05",C10="보건ㆍ의료","06",C10="사회복지ㆍ종교","07",C10="문화ㆍ예술ㆍ디자인ㆍ방송","08",C10="운전ㆍ운송","09",C10="영업판매","10",C10="경비ㆍ청소","11",C10="이용ㆍ숙박ㆍ여행ㆍ오락ㆍ스포츠","12", C10="음식서비스","13", C10="건설","14", C10="기계","15",C10="재료","16",C10="화학ㆍ바이오","17",C10="섬유ㆍ의복","18",C10="전기ㆍ전자","19",C10="정보통신","20",C10="식품가공","21",C10="인쇄ㆍ목재ㆍ가구ㆍ공예","22",C10="환경ㆍ에너지ㆍ안전","23",C10="농림어업","24") -> 20 | E10: 01 | F10: 07 | G10: AI융합형 | H10: 팀 빌딩 및 비즈니스 브랜딩 | I10: O | J10: 6 | K10: 1 | L10: 1~12월 | M10: 30 | N10: 480000 | O10: =M10*N10 -> 14400000 | P10: O | Q10: 부산시 | R10: 부산시 해운대구 수영강변대로 140 BCC 726호 | S10: 051-717-0160
A11: ㈜스마트소셜 | B11: 4 | C11: 정보통신 | D11: =_xlfn.IFS(C11="사업관리","01",C11="경영ㆍ회계ㆍ사무","02",C11="금융ㆍ보험","03",C11="교육ㆍ자연ㆍ사회과학","04",C11="법률ㆍ경찰ㆍ소방ㆍ교도ㆍ국방","05",C11="보건ㆍ의료","06",C11="사회복지ㆍ종교","07",C11="문화ㆍ예술ㆍ디자인ㆍ방송","08",C11="운전ㆍ운송","09",C11="영업판매","10",C11="경비ㆍ청소","11",C11="이용ㆍ숙박ㆍ여행ㆍ오락ㆍ스포츠","12", C11="음식서비스","13", C11="건설","14", C11="기계","15",C11="재료","16",C11="화학ㆍ바이오","17",C11="섬유ㆍ의복","18",C11="전기ㆍ전자","19",C11="정보통신","20",C11="식품가공","21",C11="인쇄ㆍ목재ㆍ가구ㆍ공예","22",C11="환경ㆍ에너지ㆍ안전","23",C11="농림어업","24") -> 20 | E11: 01 | F11: 07 | G11: AI융합형 | H11: 비전공자를 위한 실무 AI 사용법(ChatGPT, Google Gemini) | I11: O | J11: 6 | K11: 1 | L11: 1~12월 | M11: 50 | N11: 240000 | O11: =M11*N11 -> 12000000 | P11: O | Q11: 부산시 | R11: 부산시 해운대구 수영강변대로 140 BCC 726호 | S11: 051-717-0160
A12: ㈜스마트소셜 | B12: 5 | C12: 정보통신 | D12: =_xlfn.IFS(C12="사업관리","01",C12="경영ㆍ회계ㆍ사무","02",C12="금융ㆍ보험","03",C12="교육ㆍ자연ㆍ사회과학","04",C12="법률ㆍ경찰ㆍ소방ㆍ교도ㆍ국방","05",C12="보건ㆍ의료","06",C12="사회복지ㆍ종교","07",C12="문화ㆍ예술ㆍ디자인ㆍ방송","08",C12="운전ㆍ운송","09",C12="영업판매","10",C12="경비ㆍ청소","11",C12="이용ㆍ숙박ㆍ여행ㆍ오락ㆍ스포츠","12", C12="음식서비스","13", C12="건설","14", C12="기계","15",C12="재료","16",C12="화학ㆍ바이오","17",C12="섬유ㆍ의복","18",C12="전기ㆍ전자","19",C12="정보통신","20",C12="식품가공","21",C12="인쇄ㆍ목재ㆍ가구ㆍ공예","22",C12="환경ㆍ에너지ㆍ안전","23",C12="농림어업","24") -> 20 | E12: 01 | F12: 07 | G12: AI융합형 | H12: 사무직을 위한 AI 업무 자동화 | I12: O | J12: 6 | K12: 1 | L12: 1~12월 | M12: 50 | N12: 240000 | O12: =M12*N12 -> 12000000 | P12: O | Q12: 부산시 | R12: 부산시 해운대구 수영강변대로 140 BCC 726호 | S12: 051-717-0160
A13: ㈜스마트소셜 | B13: 6 | C13: 정보통신 | D13: =_xlfn.IFS(C13="사업관리","01",C13="경영ㆍ회계ㆍ사무","02",C13="금융ㆍ보험","03",C13="교육ㆍ자연ㆍ사회과학","04",C13="법률ㆍ경찰ㆍ소방ㆍ교도ㆍ국방","05",C13="보건ㆍ의료","06",C13="사회복지ㆍ종교","07",C13="문화ㆍ예술ㆍ디자인ㆍ방송","08",C13="운전ㆍ운송","09",C13="영업판매","10",C13="경비ㆍ청소","11",C13="이용ㆍ숙박ㆍ여행ㆍ오락ㆍ스포츠","12", C13="음식서비스","13", C13="건설","14", C13="기계","15",C13="재료","16",C13="화학ㆍ바이오","17",C13="섬유ㆍ의복","18",C13="전기ㆍ전자","19",C13="정보통신","20",C13="식품가공","21",C13="인쇄ㆍ목재ㆍ가구ㆍ공예","22",C13="환경ㆍ에너지ㆍ안전","23",C13="농림어업","24") -> 20 | E13: 01 | F13: 07 | G13: AI융합형 | H13: 리더를 위한 AI 전략 이해 | I13: O | J13: 6 | K13: 1 | L13: 1~12월 | M13: 50 | N13: 240000 | O13: =M13*N13 -> 12000000 | P13: O | Q13: 부산시 | R13: 부산시 해운대구 수영강변대로 140 BCC 726호 | S13: 051-717-0160
A14: ㈜스마트소셜 | B14: 7 | C14: 정보통신 | D14: =_xlfn.IFS(C14="사업관리","01",C14="경영ㆍ회계ㆍ사무","02",C14="금융ㆍ보험","03",C14="교육ㆍ자연ㆍ사회과학","04",C14="법률ㆍ경찰ㆍ소방ㆍ교도ㆍ국방","05",C14="보건ㆍ의료","06",C14="사회복지ㆍ종교","07",C14="문화ㆍ예술ㆍ디자인ㆍ방송","08",C14="운전ㆍ운송","09",C14="영업판매","10",C14="경비ㆍ청소","11",C14="이용ㆍ숙박ㆍ여행ㆍ오락ㆍ스포츠","12", C14="음식서비스","13", C14="건설","14", C14="기계","15",C14="재료","16",C14="화학ㆍ바이오","17",C14="섬유ㆍ의복","18",C14="전기ㆍ전자","19",C14="정보통신","20",C14="식품가공","21",C14="인쇄ㆍ목재ㆍ가구ㆍ공예","22",C14="환경ㆍ에너지ㆍ안전","23",C14="농림어업","24") -> 20 | E14: 01 | F14: 07 | G14: AI융합형 | H14: 팀 생산성을 높이는 AI 활용 전략(Slack) | I14: O | J14: 6 | K14: 1 | L14: 1~12월 | M14: 50 | N14: 240000 | O14: =M14*N14 -> 12000000 | P14: O | Q14: 부산시 | R14: 부산시 해운대구 수영강변대로 140 BCC 726호 | S14: 051-717-0160
A15: ㈜스마트소셜 | B15: 8 | C15: 정보통신 | D15: =_xlfn.IFS(C15="사업관리","01",C15="경영ㆍ회계ㆍ사무","02",C15="금융ㆍ보험","03",C15="교육ㆍ자연ㆍ사회과학","04",C15="법률ㆍ경찰ㆍ소방ㆍ교도ㆍ국방","05",C15="보건ㆍ의료","06",C15="사회복지ㆍ종교","07",C15="문화ㆍ예술ㆍ디자인ㆍ방송","08",C15="운전ㆍ운송","09",C15="영업판매","10",C15="경비ㆍ청소","11",C15="이용ㆍ숙박ㆍ여행ㆍ오락ㆍ스포츠","12", C15="음식서비스","13", C15="건설","14", C15="기계","15",C15="재료","16",C15="화학ㆍ바이오","17",C15="섬유ㆍ의복","18",C15="전기ㆍ전자","19",C15="정보통신","20",C15="식품가공","21",C15="인쇄ㆍ목재ㆍ가구ㆍ공예","22",C15="환경ㆍ에너지ㆍ안전","23",C15="농림어업","24") -> 20 | E15: 01 | F15: 05 | G15: AI융합형 | H15: AI로 만드는 콘텐츠 & 광고 문구(Canva) | I15: O | J15: 6 | K15: 1 | L15: 1~12월 | M15: 50 | N15: 240000 | O15: =M15*N15 -> 12000000 | P15: O | Q15: 부산시 | R15: 부산시 해운대구 수영강변대로 140 BCC 726호 | S15: 051-717-0160
A16: ㈜스마트소셜 | B16: 9 | C16: 정보통신 | D16: =_xlfn.IFS(C16="사업관리","01",C16="경영ㆍ회계ㆍ사무","02",C16="금융ㆍ보험","03",C16="교육ㆍ자연ㆍ사회과학","04",C16="법률ㆍ경찰ㆍ소방ㆍ교도ㆍ국방","05",C16="보건ㆍ의료","06",C16="사회복지ㆍ종교","07",C16="문화ㆍ예술ㆍ디자인ㆍ방송","08",C16="운전ㆍ운송","09",C16="영업판매","10",C16="경비ㆍ청소","11",C16="이용ㆍ숙박ㆍ여행ㆍ오락ㆍ스포츠","12", C16="음식서비스","13", C16="건설","14", C16="기계","15",C16="재료","16",C16="화학ㆍ바이오","17",C16="섬유ㆍ의복","18",C16="전기ㆍ전자","19",C16="정보통신","20",C16="식품가공","21",C16="인쇄ㆍ목재ㆍ가구ㆍ공예","22",C16="환경ㆍ에너지ㆍ안전","23",C16="농림어업","24") -> 20 | E16: 01 | F16: 07 | G16: AI융합형 | H16: 제조업 생산성 제고를 위한 AI 기반 업무 혁신 과정(Slack) | I16: O | J16: 6 | K16: 1 | L16: 1~12월 | M16: 50 | N16: 240000 | O16: =M16*N16 -> 12000000 | P16: O | Q16: 부산시 | R16: 부산시 해운대구 수영강변대로 140 BCC 726호 | S16: 051-717-0160

Sheet 9. 스팩스페이스
A1: [작성방법(필독!)] 0. 모든 항목을 반드시 작성해야 하며, 미기재 항목이 있을 경우 심사대상에서 제외, 훈련기관명은 1번 시트 값이 자동입력되므로 직접입력 X 1. NCS 분류코드 : 해당 과정에 가장 주요하거나 많은 비중을 차지하는 내용을 토대로 각 분류상 가장 부합하는 코드를 작성(훈련기관 자체 판단) - NCS대분류명 기재 시 데이터박스 목록으로 설정, 대분류 숫자는 대분류명 선택시 자동입력되므로 직접입력 X 2. 비대면 실시간 운영 여부 : 집체형태 외 비대면 실시간 형태 운영 희망 시 'O' 체크(집체 형태는 기본적으로 모두 가능하며, 비대면 실시간 형태는 승인 과정에 한해 가능) 3. 훈련인원 : 기관에서 예상하는 해당 과정의 연간 훈련 실시인원 추정치 4. 훈련비 단가 : 1인, 1회 기준 훈련비용 5. 총 훈련비 : 총 훈련인원 X 훈련비 단가 6. 훈련일정 : 회차별 개설 예정 시기를 월 단위로 모두 기재('0월' 형태로 기재하거나 "연중 상시" 등 근로자 대상 충분히 안내 가능한 내용으로 작성) 7. 훈련실시장소 : 시/도 단위 및 정확한 주소를 각각 입력, 여러 장소에서 실시할 경우 셀 한개에 모두 입력(셀 구분 시 누락될 수 있음)
A6: 훈련기관명 | B6: 연번 | C6: NCS 대분류명 | D6: NCS 분류코드 | G6: 과정 유형 | H6: 훈련과정명 | I6: 비대면 실시간 운영 여부 | J6: 훈련시간 (H) | K6: 훈련기간 (일수) | L6: 훈련일정 | M6: 훈련인원(명) [예상 수요] | N6: 훈련비 단가(원) | O6: 총 훈련비(원) | P6: 최근 3년 이내('23~'25) 훈련과정 운영 이력 | Q6: 훈련 실시 장소
D7: 대 | E7: 중 | F7: 소 | Q7: 시/도 단위 | R7: 주소지 | S7: 문의처
A8: 주식회사 스팩스페이스 | B8: 1 | C8: 정보통신 | D8: =_xlfn.IFS(C8="사업관리","01",C8="경영ㆍ회계ㆍ사무","02",C8="금융ㆍ보험","03",C8="교육ㆍ자연ㆍ사회과학","04",C8="법률ㆍ경찰ㆍ소방ㆍ교도ㆍ국방","05",C8="보건ㆍ의료","06",C8="사회복지ㆍ종교","07",C8="문화ㆍ예술ㆍ디자인ㆍ방송","08",C8="운전ㆍ운송","09",C8="영업판매","10",C8="경비ㆍ청소","11",C8="이용ㆍ숙박ㆍ여행ㆍ오락ㆍ스포츠","12", C8="음식서비스","13", C8="건설","14", C8="기계","15",C8="재료","16",C8="화학ㆍ바이오","17",C8="섬유ㆍ의복","18",C8="전기ㆍ전자","19",C8="정보통신","20",C8="식품가공","21",C8="인쇄ㆍ목재ㆍ가구ㆍ공예","22",C8="환경ㆍ에너지ㆍ안전","23",C8="농림어업","24") -> 20 | E8: 01 | F8: 07 | G8: AI융합형 | H8: 회의가 바로 끝나는 데이터·문서 AI요약 실무 과정 | I8: X | J8: 14 | K8: 2 | L8: 연중 상시 | M8: 60 | N8: 400000 | O8: =M8*N8 -> 24000000 | P8: X | Q8: 서울시 | R8: (07807) 서울시 강서구 마곡중앙로 59-5 | S8: 02-6217-1133
A9: 주식회사 스팩스페이스 | B9: 2 | C9: 경영ㆍ회계ㆍ사무 | D9: =_xlfn.IFS(C9="사업관리","01",C9="경영ㆍ회계ㆍ사무","02",C9="금융ㆍ보험","03",C9="교육ㆍ자연ㆍ사회과학","04",C9="법률ㆍ경찰ㆍ소방ㆍ교도ㆍ국방","05",C9="보건ㆍ의료","06",C9="사회복지ㆍ종교","07",C9="문화ㆍ예술ㆍ디자인ㆍ방송","08",C9="운전ㆍ운송","09",C9="영업판매","10",C9="경비ㆍ청소","11",C9="이용ㆍ숙박ㆍ여행ㆍ오락ㆍ스포츠","12", C9="음식서비스","13", C9="건설","14", C9="기계","15",C9="재료","16",C9="화학ㆍ바이오","17",C9="섬유ㆍ의복","18",C9="전기ㆍ전자","19",C9="정보통신","20",C9="식품가공","21",C9="인쇄ㆍ목재ㆍ가구ㆍ공예","22",C9="환경ㆍ에너지ㆍ안전","23",C9="농림어업","24") -> 02 | E9: 03 | F9: 02 | G9: 일반형 | H9: 팀장이라면 반드시 알아야 할 회계의 진짜 쓰임 | I9: X | J9: 14 | K9: 2 | L9: 연중 상시 | M9: 40 | N9: 350000 | O9: =M9*N9 -> 14000000 | P9: X | Q9: 서울시 | R9: (07807) 서울시 강서구 마곡중앙로 59-5 | S9: 02-6217-1133
A10: 주식회사 스팩스페이스 | B10: 3 | C10: 정보통신 | D10: =_xlfn.IFS(C10="사업관리","01",C10="경영ㆍ회계ㆍ사무","02",C10="금융ㆍ보험","03",C10="교육ㆍ자연ㆍ사회과학","04",C10="법률ㆍ경찰ㆍ소방ㆍ교도ㆍ국방","05",C10="보건ㆍ의료","06",C10="사회복지ㆍ종교","07",C10="문화ㆍ예술ㆍ디자인ㆍ방송","08",C10="운전ㆍ운송","09",C10="영업판매","10",C10="경비ㆍ청소","11",C10="이용ㆍ숙박ㆍ여행ㆍ오락ㆍ스포츠","12", C10="음식서비스","13", C10="건설","14", C10="기계","15",C10="재료","16",C10="화학ㆍ바이오","17",C10="섬유ㆍ의복","18",C10="전기ㆍ전자","19",C10="정보통신","20",C10="식품가공","21",C10="인쇄ㆍ목재ㆍ가구ㆍ공예","22",C10="환경ㆍ에너지ㆍ안전","23",C10="농림어업","24") -> 20 | E10: 01 | F10: 06 | G10: AI융합형 | H10: 기업 데이터 보호 실전: 피싱·공유·AI사용수칙·사고대응 | I10: X | J10: 14 | K10: 2 | L10: 연중 상시 | M10: 40 | N10: 450000 | O10: =M10*N10 -> 18000000 | P10: X | Q10: 서울시 | R10: (07807) 서울시 강서구 마곡중앙로 59-5 | S10: 02-6217-1133
A11: 주식회사 스팩스페이스 | B11: 4 | D11: =_xlfn.IFS(C11="사업관리","01",C11="경영ㆍ회계ㆍ사무","02",C11="금융ㆍ보험","03",C11="교육ㆍ자연ㆍ사회과학","04",C11="법률ㆍ경찰ㆍ소방ㆍ교도ㆍ국방","05",C11="보건ㆍ의료","06",C11="사회복지ㆍ종교","07",C11="문화ㆍ예술ㆍ디자인ㆍ방송","08",C11="운전ㆍ운송","09",C11="영업판매","10",C11="경비ㆍ청소","11",C11="이용ㆍ숙박ㆍ여행ㆍ오락ㆍ스포츠","12", C11="음식서비스","13", C11="건설","14", C11="기계","15",C11="재료","16",C11="화학ㆍ바이오","17",C11="섬유ㆍ의복","18",C11="전기ㆍ전자","19",C11="정보통신","20",C11="식품가공","21",C11="인쇄ㆍ목재ㆍ가구ㆍ공예","22",C11="환경ㆍ에너지ㆍ안전","23",C11="농림어업","24") -> #N/A
A12: 주식회사 스팩스페이스 | B12: 5 | D12: =_xlfn.IFS(C12="사업관리","01",C12="경영ㆍ회계ㆍ사무","02",C12="금융ㆍ보험","03",C12="교육ㆍ자연ㆍ사회과학","04",C12="법률ㆍ경찰ㆍ소방ㆍ교도ㆍ국방","05",C12="보건ㆍ의료","06",C12="사회복지ㆍ종교","07",C12="문화ㆍ예술ㆍ디자인ㆍ방송","08",C12="운전ㆍ운송","09",C12="영업판매","10",C12="경비ㆍ청소","11",C12="이용ㆍ숙박ㆍ여행ㆍ오락ㆍ스포츠","12", C12="음식서비스","13", C12="건설","14", C12="기계","15",C12="재료","16",C12="화학ㆍ바이오","17",C12="섬유ㆍ의복","18",C12="전기ㆍ전자","19",C12="정보통신","20",C12="식품가공","21",C12="인쇄ㆍ목재ㆍ가구ㆍ공예","22",C12="환경ㆍ에너지ㆍ안전","23",C12="농림어업","24") -> #N/A
A13: 주식회사 스팩스페이스 | B13: 6 | D13: =_xlfn.IFS(C13="사업관리","01",C13="경영ㆍ회계ㆍ사무","02",C13="금융ㆍ보험","03",C13="교육ㆍ자연ㆍ사회과학","04",C13="법률ㆍ경찰ㆍ소방ㆍ교도ㆍ국방","05",C13="보건ㆍ의료","06",C13="사회복지ㆍ종교","07",C13="문화ㆍ예술ㆍ디자인ㆍ방송","08",C13="운전ㆍ운송","09",C13="영업판매","10",C13="경비ㆍ청소","11",C13="이용ㆍ숙박ㆍ여행ㆍ오락ㆍ스포츠","12", C13="음식서비스","13", C13="건설","14", C13="기계","15",C13="재료","16",C13="화학ㆍ바이오","17",C13="섬유ㆍ의복","18",C13="전기ㆍ전자","19",C13="정보통신","20",C13="식품가공","21",C13="인쇄ㆍ목재ㆍ가구ㆍ공예","22",C13="환경ㆍ에너지ㆍ안전","23",C13="농림어업","24") -> #N/A
A14: 주식회사 스팩스페이스 | B14: 7 | D14: =_xlfn.IFS(C14="사업관리","01",C14="경영ㆍ회계ㆍ사무","02",C14="금융ㆍ보험","03",C14="교육ㆍ자연ㆍ사회과학","04",C14="법률ㆍ경찰ㆍ소방ㆍ교도ㆍ국방","05",C14="보건ㆍ의료","06",C14="사회복지ㆍ종교","07",C14="문화ㆍ예술ㆍ디자인ㆍ방송","08",C14="운전ㆍ운송","09",C14="영업판매","10",C14="경비ㆍ청소","11",C14="이용ㆍ숙박ㆍ여행ㆍ오락ㆍ스포츠","12", C14="음식서비스","13", C14="건설","14", C14="기계","15",C14="재료","16",C14="화학ㆍ바이오","17",C14="섬유ㆍ의복","18",C14="전기ㆍ전자","19",C14="정보통신","20",C14="식품가공","21",C14="인쇄ㆍ목재ㆍ가구ㆍ공예","22",C14="환경ㆍ에너지ㆍ안전","23",C14="농림어업","24") -> #N/A
